BEGIN:VCALENDAR
VERSION:2.0
PRODID:-//AusschreibungsRadar//Timeline//DE
CALSCALE:GREGORIAN
METHOD:PUBLISH
X-WR-CALNAME:Projekt Elektro MP2
X-WR-TIMEZONE:Europe/Berlin
BEGIN:VEVENT
UID:4e3b905f25ee653e@ausschreibungsradar.com
DTSTAMP:20260424T212018Z
DTSTART;VALUE=DATE:20251208
DTEND;VALUE=DATE:20251208
SUMMARY:Angebotsfrist — Elektro MP2
DESCRIPTION:Phase: Ausschreibung | Beschreibung: Angebote werden eingeholt | Link: https://ausschreibungsradar.com/ausschreibung/940c90a9-ea12-44b1-94fb-c66afc097872/
URL:https://ausschreibungsradar.com/ausschreibung/940c90a9-ea12-44b1-94fb-c66afc097872/
END:VEVENT
BEGIN:VEVENT
UID:1ff4f43db856c9eb@ausschreibungsradar.com
DTSTAMP:20260424T212018Z
DTSTART;VALUE=DATE:20260211
DTEND;VALUE=DATE:20260211
SUMMARY:Vergabeergebnis — Elektro MP2
DESCRIPTION:Phase: Vergabeergebnis | Beschreibung: Auftrag wurde zugeschlagen | Link: https://ausschreibungsradar.com/ausschreibung/4c994e59-c54e-44c1-b1b5-c84d95f5dfcc/ | Auftragnehmer: MINCK Elektro- und Fernme
URL:https://ausschreibungsradar.com/ausschreibung/4c994e59-c54e-44c1-b1b5-c84d95f5dfcc/
END:VEVENT
END:VCALENDAR
