BEGIN:VCALENDAR
VERSION:2.0
PRODID:-//AusschreibungsRadar//Timeline//DE
CALSCALE:GREGORIAN
METHOD:PUBLISH
X-WR-CALNAME:Projekt Objektplanungsleistungen energetische Sanierung Förderschule
X-WR-TIMEZONE:Europe/Berlin
BEGIN:VEVENT
UID:4799c60a7bde9f5b@ausschreibungsradar.com
DTSTAMP:20260423T235622Z
DTSTART;VALUE=DATE:20251024
DTEND;VALUE=DATE:20251024
SUMMARY:Ausschreibung — Objektplanungsleistungen energetische Sanierung Förderschule
DESCRIPTION:Phase: Ausschreibung | Beschreibung: Angebote werden eingeholt | Link: https://ausschreibungsradar.com/ausschreibung/4c9dd479-0faa-4f15-9483-5cbdafc6fca3/
URL:https://ausschreibungsradar.com/ausschreibung/4c9dd479-0faa-4f15-9483-5cbdafc6fca3/
END:VEVENT
BEGIN:VEVENT
UID:737e9904edba641b@ausschreibungsradar.com
DTSTAMP:20260423T235622Z
DTSTART;VALUE=DATE:20251024
DTEND;VALUE=DATE:20251024
SUMMARY:Ausschreibung — Objektplanungsleistungen energetische Sanierung Förderschule
DESCRIPTION:Phase: Ausschreibung | Beschreibung: Offizielle Ausschreibung mit Bieterfrist. | Link: https://ausschreibungsradar.com/ausschreibung/f5cab338-0050-46fc-a01c-1c3eae7e6710/
URL:https://ausschreibungsradar.com/ausschreibung/f5cab338-0050-46fc-a01c-1c3eae7e6710/
END:VEVENT
BEGIN:VEVENT
UID:b63e67421ece604a@ausschreibungsradar.com
DTSTAMP:20260423T235622Z
DTSTART;VALUE=DATE:20260220
DTEND;VALUE=DATE:20260220
SUMMARY:Vergabeergebnis — Objektplanungsleistungen energetische Sanierung Förderschule
DESCRIPTION:Phase: Vergabeergebnis | Beschreibung: Auftrag wurde zugeschlagen | Link: https://ausschreibungsradar.com/ausschreibung/fa5102ce-e17b-4405-92c5-0966970334f2/ | Geschätzter Wert: 187000 €
URL:https://ausschreibungsradar.com/ausschreibung/fa5102ce-e17b-4405-92c5-0966970334f2/
END:VEVENT
END:VCALENDAR
