BEGIN:VCALENDAR
VERSION:2.0
PRODID:-//AusschreibungsRadar//Timeline//DE
CALSCALE:GREGORIAN
METHOD:PUBLISH
X-WR-CALNAME:Projekt Erneuerung Großbilddarstellung Leitstelle Dresden
X-WR-TIMEZONE:Europe/Berlin
BEGIN:VEVENT
UID:22114f36607e6d5b@ausschreibungsradar.com
DTSTAMP:20260424T120514Z
DTSTART;VALUE=DATE:20250106
DTEND;VALUE=DATE:20250106
SUMMARY:Angebotsfrist — Erneuerung Großbilddarstellung Leitstelle Dresden
DESCRIPTION:Phase: Ausschreibung | Beschreibung: Angebote werden eingeholt | Link: https://ausschreibungsradar.com/ausschreibung/4cd31393-0953-46c8-bcaf-7d8cc80a1c6e/
URL:https://ausschreibungsradar.com/ausschreibung/4cd31393-0953-46c8-bcaf-7d8cc80a1c6e/
END:VEVENT
BEGIN:VEVENT
UID:da15aea8b8e192f8@ausschreibungsradar.com
DTSTAMP:20260424T120514Z
DTSTART;VALUE=DATE:20241112
DTEND;VALUE=DATE:20241112
SUMMARY:Ausschreibung — Erneuerung Großbilddarstellung Leitstelle Dresden
DESCRIPTION:Phase: Ausschreibung | Beschreibung: Offizielle Ausschreibung mit Bieterfrist. | Link: https://ausschreibungsradar.com/ausschreibung/a59081fd-05ee-473e-9e20-b472abf29548/
URL:https://ausschreibungsradar.com/ausschreibung/a59081fd-05ee-473e-9e20-b472abf29548/
END:VEVENT
BEGIN:VEVENT
UID:560ab081ba82f1b9@ausschreibungsradar.com
DTSTAMP:20260424T120514Z
DTSTART;VALUE=DATE:20250114
DTEND;VALUE=DATE:20250114
SUMMARY:Vergabeergebnis — Erneuerung Großbilddarstellung Leitstelle Dresden
DESCRIPTION:Phase: Vergabeergebnis | Beschreibung: Sonstige Gründe | Link: https://ausschreibungsradar.com/ausschreibung/ca8920e3-8f65-4596-b5bc-3564a3146ea6/
URL:https://ausschreibungsradar.com/ausschreibung/ca8920e3-8f65-4596-b5bc-3564a3146ea6/
END:VEVENT
END:VCALENDAR
