BEGIN:VCALENDAR
VERSION:2.0
PRODID:-//AusschreibungsRadar//Timeline//DE
CALSCALE:GREGORIAN
METHOD:PUBLISH
X-WR-CALNAME:Projekt Lieferung eines Tragkraftspritzenfahrzeuges Wasser TSF-W 8,8
X-WR-TIMEZONE:Europe/Berlin
BEGIN:VEVENT
UID:e87c402cbdd23e11@ausschreibungsradar.com
DTSTAMP:20260426T021334Z
DTSTART;VALUE=DATE:20241011
DTEND;VALUE=DATE:20241011
SUMMARY:Ausschreibung — Lieferung eines Tragkraftspritzenfahrzeuges Wasser TSF-W 8\,8
DESCRIPTION:Phase: Ausschreibung | Beschreibung: Offizielle Ausschreibung mit Bieterfrist. | Link: https://ausschreibungsradar.com/ausschreibung/985012c6-710c-4ac3-846d-a8ab877bcf8b/
URL:https://ausschreibungsradar.com/ausschreibung/985012c6-710c-4ac3-846d-a8ab877bcf8b/
END:VEVENT
BEGIN:VEVENT
UID:58e68840e90a181f@ausschreibungsradar.com
DTSTAMP:20260426T021334Z
DTSTART;VALUE=DATE:20241204
DTEND;VALUE=DATE:20241204
SUMMARY:Angebotsfrist — Lieferung eines Tragkraftspritzenfahrzeuges Wasser TSF-W 8\,8
DESCRIPTION:Phase: Ausschreibung | Beschreibung: Angebote werden eingeholt | Link: https://ausschreibungsradar.com/ausschreibung/4cd8cd0c-28dd-4f1b-9893-eeaf933f3a35/
URL:https://ausschreibungsradar.com/ausschreibung/4cd8cd0c-28dd-4f1b-9893-eeaf933f3a35/
END:VEVENT
END:VCALENDAR
