BEGIN:VCALENDAR
VERSION:2.0
PRODID:-//AusschreibungsRadar//Timeline//DE
CALSCALE:GREGORIAN
METHOD:PUBLISH
X-WR-CALNAME:Projekt Microsoft Linzenzverträge
X-WR-TIMEZONE:Europe/Berlin
BEGIN:VEVENT
UID:e0974fa887f130f3@ausschreibungsradar.com
DTSTAMP:20260425T201638Z
DTSTART;VALUE=DATE:20240412
DTEND;VALUE=DATE:20240412
SUMMARY:Angebotsfrist — Microsoft Linzenzverträge
DESCRIPTION:Phase: Ausschreibung | Beschreibung: Angebote werden eingeholt | Link: https://ausschreibungsradar.com/ausschreibung/4daad037-b8da-4db0-8d59-8026efce8cf3/
URL:https://ausschreibungsradar.com/ausschreibung/4daad037-b8da-4db0-8d59-8026efce8cf3/
END:VEVENT
BEGIN:VEVENT
UID:1d263b59b5ea1791@ausschreibungsradar.com
DTSTAMP:20260425T201638Z
DTSTART;VALUE=DATE:20240312
DTEND;VALUE=DATE:20240312
SUMMARY:Ausschreibung — Microsoft Linzenzverträge
DESCRIPTION:Phase: Ausschreibung | Beschreibung: Offizielle Ausschreibung mit Bieterfrist. | Link: https://ausschreibungsradar.com/ausschreibung/ted-150252-2024/
URL:https://ausschreibungsradar.com/ausschreibung/ted-150252-2024/
END:VEVENT
END:VCALENDAR
