BEGIN:VCALENDAR
VERSION:2.0
PRODID:-//AusschreibungsRadar//Timeline//DE
CALSCALE:GREGORIAN
METHOD:PUBLISH
X-WR-CALNAME:Projekt Zeitvertragsarbeiten für das Amt für Immobilien- und Baumana
X-WR-TIMEZONE:Europe/Berlin
BEGIN:VEVENT
UID:cc7ef3db4867b378@ausschreibungsradar.com
DTSTAMP:20260425T140043Z
DTSTART;VALUE=DATE:20260219
DTEND;VALUE=DATE:20260219
SUMMARY:Ausschreibung — Zeitvertragsarbeiten für das Amt für Immobilien- und Baumana
DESCRIPTION:Phase: Ausschreibung | Beschreibung: Offizielle Ausschreibung mit Bieterfrist. | Link: https://ausschreibungsradar.com/ausschreibung/4df2522e-8852-4def-be7d-9f2892465280/
URL:https://ausschreibungsradar.com/ausschreibung/4df2522e-8852-4def-be7d-9f2892465280/
END:VEVENT
BEGIN:VEVENT
UID:757eba3229d71a50@ausschreibungsradar.com
DTSTAMP:20260425T140043Z
DTSTART;VALUE=DATE:20260219
DTEND;VALUE=DATE:20260219
SUMMARY:Ausschreibung — Zeitvertragsarbeiten für das Amt für Immobilien- und Baumana
DESCRIPTION:Phase: Ausschreibung | Beschreibung: Offizielle Ausschreibung mit Bieterfrist. | Link: https://ausschreibungsradar.com/ausschreibung/743f35a0-a53a-4dc0-bf9c-cc254617a74a/
URL:https://ausschreibungsradar.com/ausschreibung/743f35a0-a53a-4dc0-bf9c-cc254617a74a/
END:VEVENT
END:VCALENDAR
