BEGIN:VCALENDAR
VERSION:2.0
PRODID:-//AusschreibungsRadar//Timeline//DE
CALSCALE:GREGORIAN
METHOD:PUBLISH
X-WR-CALNAME:Projekt Offenes Verfahren zur Vergabe eines Rahmenvertrags für die k
X-WR-TIMEZONE:Europe/Berlin
BEGIN:VEVENT
UID:135c07fa18449e3d@ausschreibungsradar.com
DTSTAMP:20260426T002115Z
DTSTART;VALUE=DATE:20250901
DTEND;VALUE=DATE:20250901
SUMMARY:Zuschlag — Offenes Verfahren zur Vergabe eines Rahmenvertrags für die k
DESCRIPTION:Phase: Zuschlag | Beschreibung: Vergabeergebnis — Auftrag wurde erteilt oder Verfahren beendet. | Link: https://ausschreibungsradar.com/ausschreibung/68f18090-6690-476c-9d26-227dfac55a00/
URL:https://ausschreibungsradar.com/ausschreibung/68f18090-6690-476c-9d26-227dfac55a00/
END:VEVENT
BEGIN:VEVENT
UID:5f3fc83005a767c0@ausschreibungsradar.com
DTSTAMP:20260426T002115Z
DTSTART;VALUE=DATE:20251027
DTEND;VALUE=DATE:20251027
SUMMARY:Angebotsfrist — Offenes Verfahren zur Vergabe eines Rahmenvertrags für die k
DESCRIPTION:Phase: Ausschreibung | Beschreibung: Angebote werden eingeholt | Link: https://ausschreibungsradar.com/ausschreibung/4e50ec5c-d0dd-4ba6-b0b3-e49e786efc3c/
URL:https://ausschreibungsradar.com/ausschreibung/4e50ec5c-d0dd-4ba6-b0b3-e49e786efc3c/
END:VEVENT
BEGIN:VEVENT
UID:db4ec0a2c0a5f340@ausschreibungsradar.com
DTSTAMP:20260426T002115Z
DTSTART;VALUE=DATE:20251020
DTEND;VALUE=DATE:20251020
SUMMARY:Ausschreibung — Offenes Verfahren zur Vergabe eines Rahmenvertrags für die k
DESCRIPTION:Phase: Ausschreibung | Beschreibung: Offizielle Ausschreibung mit Bieterfrist. | Link: https://ausschreibungsradar.com/ausschreibung/d8164fbd-2bca-4249-b035-681f324cda4f/
URL:https://ausschreibungsradar.com/ausschreibung/d8164fbd-2bca-4249-b035-681f324cda4f/
END:VEVENT
BEGIN:VEVENT
UID:b1c92abec46de514@ausschreibungsradar.com
DTSTAMP:20260426T002115Z
DTSTART;VALUE=DATE:20251222
DTEND;VALUE=DATE:20251222
SUMMARY:Vergabeergebnis — Offenes Verfahren zur Vergabe eines Rahmenvertrags für die k
DESCRIPTION:Phase: Vergabeergebnis | Beschreibung: Auftrag wurde zugeschlagen | Link: https://ausschreibungsradar.com/ausschreibung/5f8d9fe9-4ba8-4141-b62f-f5e5573862c0/ | Auftragnehmer: Lyreco Deutschland GmbH
URL:https://ausschreibungsradar.com/ausschreibung/5f8d9fe9-4ba8-4141-b62f-f5e5573862c0/
END:VEVENT
END:VCALENDAR
