BEGIN:VCALENDAR
VERSION:2.0
PRODID:-//AusschreibungsRadar//Timeline//DE
CALSCALE:GREGORIAN
METHOD:PUBLISH
X-WR-CALNAME:Projekt Arbeitsmedizinische Betreuung - Rahmenvertrag 2026-2029
X-WR-TIMEZONE:Europe/Berlin
BEGIN:VEVENT
UID:f5270ff0e868f7f1@ausschreibungsradar.com
DTSTAMP:20260426T043234Z
DTSTART;VALUE=DATE:20250930
DTEND;VALUE=DATE:20250930
SUMMARY:Angebotsfrist — Arbeitsmedizinische Betreuung - Rahmenvertrag 2026-2029
DESCRIPTION:Phase: Ausschreibung | Beschreibung: Angebote werden eingeholt | Link: https://ausschreibungsradar.com/ausschreibung/4e7e17be-1dc9-410a-8c02-9c68305abf8c/ | Geschätzter Wert: 600000 €
URL:https://ausschreibungsradar.com/ausschreibung/4e7e17be-1dc9-410a-8c02-9c68305abf8c/
END:VEVENT
BEGIN:VEVENT
UID:1047888688843648@ausschreibungsradar.com
DTSTAMP:20260426T043234Z
DTSTART;VALUE=DATE:20251203
DTEND;VALUE=DATE:20251203
SUMMARY:Vergabeergebnis — Arbeitsmedizinische Betreuung - Rahmenvertrag 2026-2029
DESCRIPTION:Phase: Vergabeergebnis | Beschreibung: Auftrag wurde zugeschlagen | Link: https://ausschreibungsradar.com/ausschreibung/de379eb7-d0f5-470a-bd23-d5514e406377/ | Geschätzter Wert: 600000 €
URL:https://ausschreibungsradar.com/ausschreibung/de379eb7-d0f5-470a-bd23-d5514e406377/
END:VEVENT
END:VCALENDAR
