BEGIN:VCALENDAR
VERSION:2.0
PRODID:-//AusschreibungsRadar//Timeline//DE
CALSCALE:GREGORIAN
METHOD:PUBLISH
X-WR-CALNAME:Projekt Goethe Realschule Plus_Elektroarbeiten
X-WR-TIMEZONE:Europe/Berlin
BEGIN:VEVENT
UID:c28c96d7ee95baa2@ausschreibungsradar.com
DTSTAMP:20260424T155030Z
DTSTART;VALUE=DATE:20251104
DTEND;VALUE=DATE:20251104
SUMMARY:Angebotsfrist — Goethe Realschule Plus_Elektroarbeiten
DESCRIPTION:Phase: Ausschreibung | Beschreibung: Angebote werden eingeholt | Link: https://ausschreibungsradar.com/ausschreibung/4e7e70c0-d7c2-478f-becb-f96cd724cd7a/
URL:https://ausschreibungsradar.com/ausschreibung/4e7e70c0-d7c2-478f-becb-f96cd724cd7a/
END:VEVENT
BEGIN:VEVENT
UID:80fdaa91fe2cdac4@ausschreibungsradar.com
DTSTAMP:20260424T155030Z
DTSTART;VALUE=DATE:20251006
DTEND;VALUE=DATE:20251006
SUMMARY:Ausschreibung — Goethe Realschule Plus_Elektroarbeiten
DESCRIPTION:Phase: Ausschreibung | Beschreibung: Offizielle Ausschreibung mit Bieterfrist. | Link: https://ausschreibungsradar.com/ausschreibung/ted-652133-2025/
URL:https://ausschreibungsradar.com/ausschreibung/ted-652133-2025/
END:VEVENT
END:VCALENDAR
