BEGIN:VCALENDAR
VERSION:2.0
PRODID:-//AusschreibungsRadar//Timeline//DE
CALSCALE:GREGORIAN
METHOD:PUBLISH
X-WR-CALNAME:Projekt Pfingstweideschule Tischler
X-WR-TIMEZONE:Europe/Berlin
BEGIN:VEVENT
UID:5185cab27831361b@ausschreibungsradar.com
DTSTAMP:20260424T154950Z
DTSTART;VALUE=DATE:20260522
DTEND;VALUE=DATE:20260522
SUMMARY:Angebotsfrist — Pfingstweideschule Tischler
DESCRIPTION:Phase: Ausschreibung | Beschreibung: Angebote werden eingeholt | Link: https://ausschreibungsradar.com/ausschreibung/4e9ac66d-8fa9-4138-8ff6-3837fb1bf31e/
URL:https://ausschreibungsradar.com/ausschreibung/4e9ac66d-8fa9-4138-8ff6-3837fb1bf31e/
END:VEVENT
END:VCALENDAR
