BEGIN:VCALENDAR
VERSION:2.0
PRODID:-//AusschreibungsRadar//Timeline//DE
CALSCALE:GREGORIAN
METHOD:PUBLISH
X-WR-CALNAME:Projekt Umbau und Sanierung Rathaus Gengenbach - Stahlbauarbeiten
X-WR-TIMEZONE:Europe/Berlin
BEGIN:VEVENT
UID:96172e5d5ac76e60@ausschreibungsradar.com
DTSTAMP:20260424T032518Z
DTSTART;VALUE=DATE:20251106
DTEND;VALUE=DATE:20251106
SUMMARY:Angebotsfrist — Umbau und Sanierung Rathaus Gengenbach - Stahlbauarbeiten
DESCRIPTION:Phase: Ausschreibung | Beschreibung: Angebote werden eingeholt | Link: https://ausschreibungsradar.com/ausschreibung/827a34c4-d749-4bb5-a4b9-6be381f16eec/
URL:https://ausschreibungsradar.com/ausschreibung/827a34c4-d749-4bb5-a4b9-6be381f16eec/
END:VEVENT
BEGIN:VEVENT
UID:c93e4007c76414ca@ausschreibungsradar.com
DTSTAMP:20260424T032518Z
DTSTART;VALUE=DATE:20251222
DTEND;VALUE=DATE:20251222
SUMMARY:Ausschreibung — Umbau und Sanierung Rathaus Gengenbach - Stahlbauarbeiten
DESCRIPTION:Phase: Ausschreibung | Beschreibung: Offizielle Ausschreibung mit Bieterfrist. | Link: https://ausschreibungsradar.com/ausschreibung/bd595364-f5a7-4a67-9c17-a48faf080f91/
URL:https://ausschreibungsradar.com/ausschreibung/bd595364-f5a7-4a67-9c17-a48faf080f91/
END:VEVENT
BEGIN:VEVENT
UID:05c5c5536764bcdc@ausschreibungsradar.com
DTSTAMP:20260424T032518Z
DTSTART;VALUE=DATE:20260108
DTEND;VALUE=DATE:20260108
SUMMARY:Vergabeergebnis — Umbau und Sanierung Rathaus Gengenbach - Stahlbauarbeiten
DESCRIPTION:Phase: Vergabeergebnis | Beschreibung: Auftrag wurde zugeschlagen | Link: https://ausschreibungsradar.com/ausschreibung/4f0a5aef-33ac-4b52-b20b-7547504ab2e2/
URL:https://ausschreibungsradar.com/ausschreibung/4f0a5aef-33ac-4b52-b20b-7547504ab2e2/
END:VEVENT
BEGIN:VEVENT
UID:f61edc4122d2cded@ausschreibungsradar.com
DTSTAMP:20260424T032518Z
DTSTART;VALUE=DATE:20260108
DTEND;VALUE=DATE:20260108
SUMMARY:Zuschlag — Umbau und Sanierung Rathaus Gengenbach - Stahlbauarbeiten
DESCRIPTION:Phase: Zuschlag | Beschreibung: Vergabeergebnis — Auftrag wurde erteilt oder Verfahren beendet. | Link: https://ausschreibungsradar.com/ausschreibung/8a7c167d-73b1-4820-a61a-815e3176da6d/
URL:https://ausschreibungsradar.com/ausschreibung/8a7c167d-73b1-4820-a61a-815e3176da6d/
END:VEVENT
BEGIN:VEVENT
UID:6425192f3be1ef71@ausschreibungsradar.com
DTSTAMP:20260424T032518Z
DTSTART;VALUE=DATE:20260120
DTEND;VALUE=DATE:20260120
SUMMARY:Ausschreibung — Umbau und Sanierung Rathaus Gengenbach - Stahlbauarbeiten
DESCRIPTION:Phase: Ausschreibung | Beschreibung: Offizielle Ausschreibung mit Bieterfrist. | Link: https://ausschreibungsradar.com/ausschreibung/05566f69-7464-4cee-8003-2418f71d5986/
URL:https://ausschreibungsradar.com/ausschreibung/05566f69-7464-4cee-8003-2418f71d5986/
END:VEVENT
BEGIN:VEVENT
UID:7645d5d4b1ae4026@ausschreibungsradar.com
DTSTAMP:20260424T032518Z
DTSTART;VALUE=DATE:20260120
DTEND;VALUE=DATE:20260120
SUMMARY:Ausschreibung — Umbau und Sanierung Rathaus Gengenbach - Stahlbauarbeiten
DESCRIPTION:Phase: Ausschreibung | Beschreibung: Offizielle Ausschreibung mit Bieterfrist. | Link: https://ausschreibungsradar.com/ausschreibung/8d0f2df7-0a3e-4481-9814-3e0d2a415997/
URL:https://ausschreibungsradar.com/ausschreibung/8d0f2df7-0a3e-4481-9814-3e0d2a415997/
END:VEVENT
END:VCALENDAR
