BEGIN:VCALENDAR
VERSION:2.0
PRODID:-//AusschreibungsRadar//Timeline//DE
CALSCALE:GREGORIAN
METHOD:PUBLISH
X-WR-CALNAME:Projekt Erweiterung des Kurt-Huber-Gymnasiums Nordtrakt / Küche Cafe
X-WR-TIMEZONE:Europe/Berlin
BEGIN:VEVENT
UID:bffe0a10b9d64477@ausschreibungsradar.com
DTSTAMP:20260425T190207Z
DTSTART;VALUE=DATE:20260115
DTEND;VALUE=DATE:20260115
SUMMARY:Ausschreibung — Erweiterung des Kurt-Huber-Gymnasiums Nordtrakt / Küche Cafe
DESCRIPTION:Phase: Ausschreibung | Beschreibung: Offizielle Ausschreibung mit Bieterfrist. | Link: https://ausschreibungsradar.com/ausschreibung/84a4ecd2-ca66-4ade-b733-fcf547dadb8f/
URL:https://ausschreibungsradar.com/ausschreibung/84a4ecd2-ca66-4ade-b733-fcf547dadb8f/
END:VEVENT
BEGIN:VEVENT
UID:d7c468cdfbd6cc4c@ausschreibungsradar.com
DTSTAMP:20260425T190207Z
DTSTART;VALUE=DATE:20260305
DTEND;VALUE=DATE:20260305
SUMMARY:Angebotsfrist — Erweiterung des Kurt-Huber-Gymnasiums Nordtrakt / Küche Cafe
DESCRIPTION:Phase: Ausschreibung | Beschreibung: Angebote werden eingeholt | Link: https://ausschreibungsradar.com/ausschreibung/4f40aaa6-d444-464b-b0fe-3a158a73afba/
URL:https://ausschreibungsradar.com/ausschreibung/4f40aaa6-d444-464b-b0fe-3a158a73afba/
END:VEVENT
BEGIN:VEVENT
UID:8130bda0e4aae948@ausschreibungsradar.com
DTSTAMP:20260425T190207Z
DTSTART;VALUE=DATE:20260210
DTEND;VALUE=DATE:20260210
SUMMARY:Zuschlag — Erweiterung des Kurt-Huber-Gymnasiums Nordtrakt / Küche Cafe
DESCRIPTION:Phase: Zuschlag | Beschreibung: Vergabeergebnis — Auftrag wurde erteilt oder Verfahren beendet. | Link: https://ausschreibungsradar.com/ausschreibung/0d0b1449-a239-43ce-917a-daa18dfe7397/
URL:https://ausschreibungsradar.com/ausschreibung/0d0b1449-a239-43ce-917a-daa18dfe7397/
END:VEVENT
END:VCALENDAR
