BEGIN:VCALENDAR
VERSION:2.0
PRODID:-//AusschreibungsRadar//Timeline//DE
CALSCALE:GREGORIAN
METHOD:PUBLISH
X-WR-CALNAME:Projekt Neubau Vierfach-Sporthalle Dinslaken - VE 126 - Pfosten-Rieg
X-WR-TIMEZONE:Europe/Berlin
BEGIN:VEVENT
UID:27072ada8a944d92@ausschreibungsradar.com
DTSTAMP:20260424T204548Z
DTSTART;VALUE=DATE:20240919
DTEND;VALUE=DATE:20240919
SUMMARY:Angebotsfrist — Neubau Vierfach-Sporthalle Dinslaken - VE 126 - Pfosten-Rieg
DESCRIPTION:Phase: Ausschreibung | Beschreibung: Angebote werden eingeholt | Link: https://ausschreibungsradar.com/ausschreibung/e5ca0ca6-0e6b-4240-a4e3-44ea245a12f7/
URL:https://ausschreibungsradar.com/ausschreibung/e5ca0ca6-0e6b-4240-a4e3-44ea245a12f7/
END:VEVENT
BEGIN:VEVENT
UID:7ddc11f8876b035f@ausschreibungsradar.com
DTSTAMP:20260424T204548Z
DTSTART;VALUE=DATE:20240721
DTEND;VALUE=DATE:20240721
SUMMARY:Ausschreibung — Neubau Vierfach-Sporthalle Dinslaken - VE 126 - Pfosten-Rieg
DESCRIPTION:Phase: Ausschreibung | Beschreibung: Offizielle Ausschreibung mit Bieterfrist. | Link: https://ausschreibungsradar.com/ausschreibung/e74f3994-25db-449f-bceb-e914ab1a0148/
URL:https://ausschreibungsradar.com/ausschreibung/e74f3994-25db-449f-bceb-e914ab1a0148/
END:VEVENT
BEGIN:VEVENT
UID:69a501ca64d2e861@ausschreibungsradar.com
DTSTAMP:20260424T204548Z
DTSTART;VALUE=DATE:20240721
DTEND;VALUE=DATE:20240721
SUMMARY:Ausschreibung — Neubau Vierfach-Sporthalle Dinslaken - VE 126 - Pfosten-Rieg
DESCRIPTION:Phase: Ausschreibung | Beschreibung: Offizielle Ausschreibung mit Bieterfrist. | Link: https://ausschreibungsradar.com/ausschreibung/e088943a-22ba-4753-b6d5-ff10fcebb363/
URL:https://ausschreibungsradar.com/ausschreibung/e088943a-22ba-4753-b6d5-ff10fcebb363/
END:VEVENT
BEGIN:VEVENT
UID:709ee2610a1564b9@ausschreibungsradar.com
DTSTAMP:20260424T204548Z
DTSTART;VALUE=DATE:20241113
DTEND;VALUE=DATE:20241113
SUMMARY:Vergabeergebnis — Neubau Vierfach-Sporthalle Dinslaken - VE 126 - Pfosten-Rieg
DESCRIPTION:Phase: Vergabeergebnis | Beschreibung: Auftrag wurde zugeschlagen | Link: https://ausschreibungsradar.com/ausschreibung/4f5b4002-e35b-4048-957d-9defeb5b4ca8/
URL:https://ausschreibungsradar.com/ausschreibung/4f5b4002-e35b-4048-957d-9defeb5b4ca8/
END:VEVENT
BEGIN:VEVENT
UID:2e346e881f9347d8@ausschreibungsradar.com
DTSTAMP:20260424T204548Z
DTSTART;VALUE=DATE:20241210
DTEND;VALUE=DATE:20241210
SUMMARY:Ausschreibung — Neubau Vierfach-Sporthalle Dinslaken - VE 126 - Pfosten-Rieg
DESCRIPTION:Phase: Ausschreibung | Beschreibung: Offizielle Ausschreibung mit Bieterfrist. | Link: https://ausschreibungsradar.com/ausschreibung/23129322/
URL:https://ausschreibungsradar.com/ausschreibung/23129322/
END:VEVENT
END:VCALENDAR
