BEGIN:VCALENDAR
VERSION:2.0
PRODID:-//AusschreibungsRadar//Timeline//DE
CALSCALE:GREGORIAN
METHOD:PUBLISH
X-WR-CALNAME:Projekt Produktion von Mediencontent und Programmierung von Medienst
X-WR-TIMEZONE:Europe/Berlin
BEGIN:VEVENT
UID:8f59021c378415a0@ausschreibungsradar.com
DTSTAMP:20260425T221419Z
DTSTART;VALUE=DATE:20251113
DTEND;VALUE=DATE:20251113
SUMMARY:Angebotsfrist — Produktion von Mediencontent und Programmierung von Medienst
DESCRIPTION:Phase: Ausschreibung | Beschreibung: Angebote werden eingeholt | Link: https://ausschreibungsradar.com/ausschreibung/4f8bad6f-8e28-450d-b622-d9b0a7cc6b3c/
URL:https://ausschreibungsradar.com/ausschreibung/4f8bad6f-8e28-450d-b622-d9b0a7cc6b3c/
END:VEVENT
BEGIN:VEVENT
UID:4355b3869aab37b2@ausschreibungsradar.com
DTSTAMP:20260425T221419Z
DTSTART;VALUE=DATE:20250929
DTEND;VALUE=DATE:20250929
SUMMARY:Ausschreibung — Produktion von Mediencontent und Programmierung von Medienst
DESCRIPTION:Phase: Ausschreibung | Beschreibung: Offizielle Ausschreibung mit Bieterfrist. | Link: https://ausschreibungsradar.com/ausschreibung/23163779-23e1-42d9-b986-859e8aeae218/
URL:https://ausschreibungsradar.com/ausschreibung/23163779-23e1-42d9-b986-859e8aeae218/
END:VEVENT
BEGIN:VEVENT
UID:cc45f3d4c45730c4@ausschreibungsradar.com
DTSTAMP:20260425T221419Z
DTSTART;VALUE=DATE:20250929
DTEND;VALUE=DATE:20250929
SUMMARY:Ausschreibung — Produktion von Mediencontent und Programmierung von Medienst
DESCRIPTION:Phase: Ausschreibung | Beschreibung: Offizielle Ausschreibung mit Bieterfrist. | Link: https://ausschreibungsradar.com/ausschreibung/1c76424b-5432-4aa5-9e41-289cb943892d/
URL:https://ausschreibungsradar.com/ausschreibung/1c76424b-5432-4aa5-9e41-289cb943892d/
END:VEVENT
BEGIN:VEVENT
UID:da0644a120686c49@ausschreibungsradar.com
DTSTAMP:20260425T221419Z
DTSTART;VALUE=DATE:20251003
DTEND;VALUE=DATE:20251003
SUMMARY:Ausschreibung — Produktion von Mediencontent und Programmierung von Medienst
DESCRIPTION:Phase: Ausschreibung | Beschreibung: Offizielle Ausschreibung mit Bieterfrist. | Link: https://ausschreibungsradar.com/ausschreibung/ted-650440-2025/
URL:https://ausschreibungsradar.com/ausschreibung/ted-650440-2025/
END:VEVENT
BEGIN:VEVENT
UID:395cf9948e29a0d5@ausschreibungsradar.com
DTSTAMP:20260425T221419Z
DTSTART;VALUE=DATE:20251202
DTEND;VALUE=DATE:20251202
SUMMARY:Vergabeergebnis — Produktion von Mediencontent und Programmierung von Medienst
DESCRIPTION:Phase: Vergabeergebnis | Beschreibung: Auftrag wurde zugeschlagen | Link: https://ausschreibungsradar.com/ausschreibung/b967baa0-ef9b-484d-b2fa-4a4862fe7a7a/
URL:https://ausschreibungsradar.com/ausschreibung/b967baa0-ef9b-484d-b2fa-4a4862fe7a7a/
END:VEVENT
END:VCALENDAR
