BEGIN:VCALENDAR
VERSION:2.0
PRODID:-//AusschreibungsRadar//Timeline//DE
CALSCALE:GREGORIAN
METHOD:PUBLISH
X-WR-CALNAME:Projekt LVR-Christoph-Schlingensief-Schule Oberhausen, Außenanlagen 
X-WR-TIMEZONE:Europe/Berlin
BEGIN:VEVENT
UID:7eef3ccaff65b453@ausschreibungsradar.com
DTSTAMP:20260424T015017Z
DTSTART;VALUE=DATE:20241119
DTEND;VALUE=DATE:20241119
SUMMARY:Angebotsfrist — LVR-Christoph-Schlingensief-Schule Oberhausen\, Außenanlagen 
DESCRIPTION:Phase: Ausschreibung | Beschreibung: Angebote werden eingeholt | Link: https://ausschreibungsradar.com/ausschreibung/27a30429-126f-47ca-b65e-8601c75fc6fb/
URL:https://ausschreibungsradar.com/ausschreibung/27a30429-126f-47ca-b65e-8601c75fc6fb/
END:VEVENT
BEGIN:VEVENT
UID:300b723ac3ea8d12@ausschreibungsradar.com
DTSTAMP:20260424T015017Z
DTSTART;VALUE=DATE:20250117
DTEND;VALUE=DATE:20250117
SUMMARY:Vergabeergebnis — LVR-Christoph-Schlingensief-Schule Oberhausen\, Außenanlagen 
DESCRIPTION:Phase: Vergabeergebnis | Beschreibung: Auftrag wurde zugeschlagen | Link: https://ausschreibungsradar.com/ausschreibung/4fc5a82a-5597-4aa4-9683-6c42a8e5573e/
URL:https://ausschreibungsradar.com/ausschreibung/4fc5a82a-5597-4aa4-9683-6c42a8e5573e/
END:VEVENT
END:VCALENDAR
