BEGIN:VCALENDAR
VERSION:2.0
PRODID:-//AusschreibungsRadar//Timeline//DE
CALSCALE:GREGORIAN
METHOD:PUBLISH
X-WR-CALNAME:Projekt Beschaffung von zwei multifunktionalen Geräteträgern
X-WR-TIMEZONE:Europe/Berlin
BEGIN:VEVENT
UID:0b2e34c13f9355bd@ausschreibungsradar.com
DTSTAMP:20260425T173711Z
DTSTART;VALUE=DATE:20241105
DTEND;VALUE=DATE:20241105
SUMMARY:Angebotsfrist — Beschaffung von zwei multifunktionalen Geräteträgern
DESCRIPTION:Phase: Ausschreibung | Beschreibung: Angebote werden eingeholt | Link: https://ausschreibungsradar.com/ausschreibung/4ffeb44c-6c4e-497f-807c-a0776968b756/
URL:https://ausschreibungsradar.com/ausschreibung/4ffeb44c-6c4e-497f-807c-a0776968b756/
END:VEVENT
END:VCALENDAR
