BEGIN:VCALENDAR
VERSION:2.0
PRODID:-//AusschreibungsRadar//Timeline//DE
CALSCALE:GREGORIAN
METHOD:PUBLISH
X-WR-CALNAME:Projekt Friedhofsarbeiten in den Friedhöfen der Stadt Passau
X-WR-TIMEZONE:Europe/Berlin
BEGIN:VEVENT
UID:28889d7b8aaf0fc6@ausschreibungsradar.com
DTSTAMP:20260424T181531Z
DTSTART;VALUE=DATE:20260319
DTEND;VALUE=DATE:20260319
SUMMARY:Angebotsfrist — Friedhofsarbeiten in den Friedhöfen der Stadt Passau
DESCRIPTION:Phase: Ausschreibung | Beschreibung: Angebote werden eingeholt | Link: https://ausschreibungsradar.com/ausschreibung/500e8c4f-d66c-4007-bcbc-bf6f98eae742/
URL:https://ausschreibungsradar.com/ausschreibung/500e8c4f-d66c-4007-bcbc-bf6f98eae742/
END:VEVENT
END:VCALENDAR
