BEGIN:VCALENDAR
VERSION:2.0
PRODID:-//AusschreibungsRadar//Timeline//DE
CALSCALE:GREGORIAN
METHOD:PUBLISH
X-WR-CALNAME:Projekt  Unterhaltsreinigung Lange Gasse 20, 90403
X-WR-TIMEZONE:Europe/Berlin
BEGIN:VEVENT
UID:5170dffc52a2ccf3@ausschreibungsradar.com
DTSTAMP:20260426T033257Z
DTSTART;VALUE=DATE:20250814
DTEND;VALUE=DATE:20250814
SUMMARY:Ausschreibung —  Unterhaltsreinigung Lange Gasse 20\, 90403
DESCRIPTION:Phase: Ausschreibung | Beschreibung: Angebote werden eingeholt | Link: https://ausschreibungsradar.com/ausschreibung/502a9347-2681-4166-aebd-9e092c702345/ | Geschätzter Wert: 1049730 €
URL:https://ausschreibungsradar.com/ausschreibung/502a9347-2681-4166-aebd-9e092c702345/
END:VEVENT
BEGIN:VEVENT
UID:7389cb61b41d21ff@ausschreibungsradar.com
DTSTAMP:20260426T033257Z
DTSTART;VALUE=DATE:20250814
DTEND;VALUE=DATE:20250814
SUMMARY:Ausschreibung —  Unterhaltsreinigung Lange Gasse 20\, 90403
DESCRIPTION:Phase: Ausschreibung | Beschreibung: Offizielle Ausschreibung mit Bieterfrist. | Link: https://ausschreibungsradar.com/ausschreibung/40d2c354-6542-4340-8f1a-1c4551b5ab07/
URL:https://ausschreibungsradar.com/ausschreibung/40d2c354-6542-4340-8f1a-1c4551b5ab07/
END:VEVENT
BEGIN:VEVENT
UID:8bdfb9b5c4bc10ca@ausschreibungsradar.com
DTSTAMP:20260426T033257Z
DTSTART;VALUE=DATE:20250814
DTEND;VALUE=DATE:20250814
SUMMARY:Ausschreibung —  Unterhaltsreinigung Lange Gasse 20\, 90403
DESCRIPTION:Phase: Ausschreibung | Beschreibung: Offizielle Ausschreibung mit Bieterfrist. | Link: https://ausschreibungsradar.com/ausschreibung/beeb013d-a764-4cb1-9fcd-a56979e4eac5/
URL:https://ausschreibungsradar.com/ausschreibung/beeb013d-a764-4cb1-9fcd-a56979e4eac5/
END:VEVENT
BEGIN:VEVENT
UID:527169a450d0b1d5@ausschreibungsradar.com
DTSTAMP:20260426T033257Z
DTSTART;VALUE=DATE:20250814
DTEND;VALUE=DATE:20250814
SUMMARY:Ausschreibung —  Unterhaltsreinigung Lange Gasse 20\, 90403
DESCRIPTION:Phase: Ausschreibung | Beschreibung: Offizielle Ausschreibung mit Bieterfrist. | Link: https://ausschreibungsradar.com/ausschreibung/88a86531-4213-4aa5-9bd3-69d18fb8e444/
URL:https://ausschreibungsradar.com/ausschreibung/88a86531-4213-4aa5-9bd3-69d18fb8e444/
END:VEVENT
END:VCALENDAR
