BEGIN:VCALENDAR
VERSION:2.0
PRODID:-//AusschreibungsRadar//Timeline//DE
CALSCALE:GREGORIAN
METHOD:PUBLISH
X-WR-CALNAME:Projekt Wasserstoff-Demonstrationslabor in 4 Losen - hier: Los 2 - B
X-WR-TIMEZONE:Europe/Berlin
BEGIN:VEVENT
UID:aefb77ef4bfccc93@ausschreibungsradar.com
DTSTAMP:20260424T192335Z
DTSTART;VALUE=DATE:20260127
DTEND;VALUE=DATE:20260127
SUMMARY:Ausschreibung — Wasserstoff-Demonstrationslabor in 4 Losen - hier: Los 2 - B
DESCRIPTION:Phase: Ausschreibung | Beschreibung: Angebote werden eingeholt | Link: https://ausschreibungsradar.com/ausschreibung/5031f0b4-ec6b-4fda-a8ba-9c05f21c7a90/
URL:https://ausschreibungsradar.com/ausschreibung/5031f0b4-ec6b-4fda-a8ba-9c05f21c7a90/
END:VEVENT
BEGIN:VEVENT
UID:2781188b5644d7ab@ausschreibungsradar.com
DTSTAMP:20260424T192335Z
DTSTART;VALUE=DATE:20260127
DTEND;VALUE=DATE:20260127
SUMMARY:Ausschreibung — Wasserstoff-Demonstrationslabor in 4 Losen - hier: Los 2 - B
DESCRIPTION:Phase: Ausschreibung | Beschreibung: Offizielle Ausschreibung mit Bieterfrist. | Link: https://ausschreibungsradar.com/ausschreibung/38134aee-1161-404c-8e6e-32b197a1b9c4/
URL:https://ausschreibungsradar.com/ausschreibung/38134aee-1161-404c-8e6e-32b197a1b9c4/
END:VEVENT
END:VCALENDAR
