BEGIN:VCALENDAR
VERSION:2.0
PRODID:-//AusschreibungsRadar//Timeline//DE
CALSCALE:GREGORIAN
METHOD:PUBLISH
X-WR-CALNAME:Projekt Rahmenvereinbarung Notebooks
X-WR-TIMEZONE:Europe/Berlin
BEGIN:VEVENT
UID:6632a7c869131add@ausschreibungsradar.com
DTSTAMP:20260424T150808Z
DTSTART;VALUE=DATE:20241112
DTEND;VALUE=DATE:20241112
SUMMARY:Angebotsfrist — Rahmenvereinbarung Notebooks
DESCRIPTION:Phase: Ausschreibung | Beschreibung: Angebote werden eingeholt | Link: https://ausschreibungsradar.com/ausschreibung/87498129-2488-40fc-8e57-6ce0a807a9a1/ | Geschätzter Wert: 1 €
URL:https://ausschreibungsradar.com/ausschreibung/87498129-2488-40fc-8e57-6ce0a807a9a1/
END:VEVENT
BEGIN:VEVENT
UID:823bb3ab0c91a2ce@ausschreibungsradar.com
DTSTAMP:20260424T150808Z
DTSTART;VALUE=DATE:20241002
DTEND;VALUE=DATE:20241002
SUMMARY:Ausschreibung — Rahmenvereinbarung Notebooks
DESCRIPTION:Phase: Ausschreibung | Beschreibung: Offizielle Ausschreibung mit Bieterfrist. | Link: https://ausschreibungsradar.com/ausschreibung/d0c5eb49-ef73-407a-b248-4dd74c8f0206/
URL:https://ausschreibungsradar.com/ausschreibung/d0c5eb49-ef73-407a-b248-4dd74c8f0206/
END:VEVENT
BEGIN:VEVENT
UID:0bbc3c6bef794212@ausschreibungsradar.com
DTSTAMP:20260424T150808Z
DTSTART;VALUE=DATE:20241002
DTEND;VALUE=DATE:20241002
SUMMARY:Ausschreibung — Rahmenvereinbarung Notebooks
DESCRIPTION:Phase: Ausschreibung | Beschreibung: Offizielle Ausschreibung mit Bieterfrist. | Link: https://ausschreibungsradar.com/ausschreibung/334e93b0-3b1e-4bda-a4ea-8d925ce98001/
URL:https://ausschreibungsradar.com/ausschreibung/334e93b0-3b1e-4bda-a4ea-8d925ce98001/
END:VEVENT
BEGIN:VEVENT
UID:56e21d7ea2cc24d8@ausschreibungsradar.com
DTSTAMP:20260424T150808Z
DTSTART;VALUE=DATE:20250117
DTEND;VALUE=DATE:20250117
SUMMARY:Vergabeergebnis — Rahmenvereinbarung Notebooks
DESCRIPTION:Phase: Vergabeergebnis | Beschreibung: Auftrag wurde zugeschlagen | Link: https://ausschreibungsradar.com/ausschreibung/509c757d-4e20-4265-9553-6cfe4ded8220/ | Geschätzter Wert: 1 €
URL:https://ausschreibungsradar.com/ausschreibung/509c757d-4e20-4265-9553-6cfe4ded8220/
END:VEVENT
END:VCALENDAR
