BEGIN:VCALENDAR
VERSION:2.0
PRODID:-//AusschreibungsRadar//Timeline//DE
CALSCALE:GREGORIAN
METHOD:PUBLISH
X-WR-CALNAME:Projekt Neubau eines Vereinsheims am Friesenstadion - Objektplanung 
X-WR-TIMEZONE:Europe/Berlin
BEGIN:VEVENT
UID:adacdc33c2be166c@ausschreibungsradar.com
DTSTAMP:20260425T194637Z
DTSTART;VALUE=DATE:20241230
DTEND;VALUE=DATE:20241230
SUMMARY:Ausschreibung — Neubau eines Vereinsheims am Friesenstadion - Objektplanung 
DESCRIPTION:Phase: Ausschreibung | Beschreibung: Angebote werden eingeholt | Link: https://ausschreibungsradar.com/ausschreibung/910a1888-1b53-41c2-b215-80549b418fce/ | Geschätzter Wert: 2200000 €
URL:https://ausschreibungsradar.com/ausschreibung/910a1888-1b53-41c2-b215-80549b418fce/
END:VEVENT
BEGIN:VEVENT
UID:5b2e488b25e3ef34@ausschreibungsradar.com
DTSTAMP:20260425T194637Z
DTSTART;VALUE=DATE:20250606
DTEND;VALUE=DATE:20250606
SUMMARY:Vergabeergebnis — Neubau eines Vereinsheims am Friesenstadion - Objektplanung 
DESCRIPTION:Phase: Vergabeergebnis | Beschreibung: Auftrag wurde zugeschlagen | Link: https://ausschreibungsradar.com/ausschreibung/50d79e3e-3b5c-49ed-9f88-a4c235689cbd/ | Geschätzter Wert: 1 €
URL:https://ausschreibungsradar.com/ausschreibung/50d79e3e-3b5c-49ed-9f88-a4c235689cbd/
END:VEVENT
END:VCALENDAR
