BEGIN:VCALENDAR
VERSION:2.0
PRODID:-//AusschreibungsRadar//Timeline//DE
CALSCALE:GREGORIAN
METHOD:PUBLISH
X-WR-CALNAME:Projekt AEMP-Geräte Remscheid
X-WR-TIMEZONE:Europe/Berlin
BEGIN:VEVENT
UID:332af46e4769770b@ausschreibungsradar.com
DTSTAMP:20260424T134452Z
DTSTART;VALUE=DATE:20251212
DTEND;VALUE=DATE:20251212
SUMMARY:Ausschreibung — AEMP-Geräte Remscheid
DESCRIPTION:Phase: Ausschreibung | Beschreibung: Angebote werden eingeholt | Link: https://ausschreibungsradar.com/ausschreibung/50f103a0-267a-4124-bbf6-eeebf2ad746c/
URL:https://ausschreibungsradar.com/ausschreibung/50f103a0-267a-4124-bbf6-eeebf2ad746c/
END:VEVENT
BEGIN:VEVENT
UID:2202b0ec34663085@ausschreibungsradar.com
DTSTAMP:20260424T134452Z
DTSTART;VALUE=DATE:20251212
DTEND;VALUE=DATE:20251212
SUMMARY:Ausschreibung — AEMP-Geräte Remscheid
DESCRIPTION:Phase: Ausschreibung | Beschreibung: Offizielle Ausschreibung mit Bieterfrist. | Link: https://ausschreibungsradar.com/ausschreibung/0685270b-9248-4768-83f3-7129daf39f37/
URL:https://ausschreibungsradar.com/ausschreibung/0685270b-9248-4768-83f3-7129daf39f37/
END:VEVENT
END:VCALENDAR
