BEGIN:VCALENDAR
VERSION:2.0
PRODID:-//AusschreibungsRadar//Timeline//DE
CALSCALE:GREGORIAN
METHOD:PUBLISH
X-WR-CALNAME:Projekt Schlüsselfertige Errichtung einer dreizügigen Realschule mit
X-WR-TIMEZONE:Europe/Berlin
BEGIN:VEVENT
UID:6d445294a0287b53@ausschreibungsradar.com
DTSTAMP:20260424T233213Z
DTSTART;VALUE=DATE:20260218
DTEND;VALUE=DATE:20260218
SUMMARY:Angebotsfrist — Schlüsselfertige Errichtung einer dreizügigen Realschule mit
DESCRIPTION:Phase: Ausschreibung | Beschreibung: Angebote werden eingeholt | Link: https://ausschreibungsradar.com/ausschreibung/28a14c68-4af1-48f0-9f54-88da746ffe10/
URL:https://ausschreibungsradar.com/ausschreibung/28a14c68-4af1-48f0-9f54-88da746ffe10/
END:VEVENT
BEGIN:VEVENT
UID:7699a7e3d1e8ad3a@ausschreibungsradar.com
DTSTAMP:20260424T233213Z
DTSTART;VALUE=DATE:20251029
DTEND;VALUE=DATE:20251029
SUMMARY:Ausschreibung — Schlüsselfertige Errichtung einer dreizügigen Realschule mit
DESCRIPTION:Phase: Ausschreibung | Beschreibung: Offizielle Ausschreibung mit Bieterfrist. | Link: https://ausschreibungsradar.com/ausschreibung/b39eeeeb-8c7c-4843-a759-29364734373e/
URL:https://ausschreibungsradar.com/ausschreibung/b39eeeeb-8c7c-4843-a759-29364734373e/
END:VEVENT
BEGIN:VEVENT
UID:5152c4f63ae791eb@ausschreibungsradar.com
DTSTAMP:20260424T233213Z
DTSTART;VALUE=DATE:20251029
DTEND;VALUE=DATE:20251029
SUMMARY:Ausschreibung — Schlüsselfertige Errichtung einer dreizügigen Realschule mit
DESCRIPTION:Phase: Ausschreibung | Beschreibung: Offizielle Ausschreibung mit Bieterfrist. | Link: https://ausschreibungsradar.com/ausschreibung/d917d5b8-0071-4fe3-9e35-d53bbfc20968/
URL:https://ausschreibungsradar.com/ausschreibung/d917d5b8-0071-4fe3-9e35-d53bbfc20968/
END:VEVENT
BEGIN:VEVENT
UID:202cd76d170755e9@ausschreibungsradar.com
DTSTAMP:20260424T233213Z
DTSTART;VALUE=DATE:20260401
DTEND;VALUE=DATE:20260401
SUMMARY:Vergabeergebnis — Schlüsselfertige Errichtung einer dreizügigen Realschule mit
DESCRIPTION:Phase: Vergabeergebnis | Beschreibung: Auftrag wurde zugeschlagen | Link: https://ausschreibungsradar.com/ausschreibung/517ede3b-5da7-45a5-acf8-f2ffe6b6038f/
URL:https://ausschreibungsradar.com/ausschreibung/517ede3b-5da7-45a5-acf8-f2ffe6b6038f/
END:VEVENT
END:VCALENDAR
