BEGIN:VCALENDAR
VERSION:2.0
PRODID:-//AusschreibungsRadar//Timeline//DE
CALSCALE:GREGORIAN
METHOD:PUBLISH
X-WR-CALNAME:Projekt Lieferung einer Kompaktkehrmaschine mit Sinkkastenreiniger (
X-WR-TIMEZONE:Europe/Berlin
BEGIN:VEVENT
UID:a7d97101f58edc5d@ausschreibungsradar.com
DTSTAMP:20260424T181132Z
DTSTART;VALUE=DATE:20250617
DTEND;VALUE=DATE:20250617
SUMMARY:Angebotsfrist — Lieferung einer Kompaktkehrmaschine mit Sinkkastenreiniger (
DESCRIPTION:Phase: Ausschreibung | Beschreibung: Angebote werden eingeholt | Link: https://ausschreibungsradar.com/ausschreibung/518565cd-3e77-4ceb-ad06-6e593fcbdd40/
URL:https://ausschreibungsradar.com/ausschreibung/518565cd-3e77-4ceb-ad06-6e593fcbdd40/
END:VEVENT
END:VCALENDAR
