BEGIN:VCALENDAR
VERSION:2.0
PRODID:-//AusschreibungsRadar//Timeline//DE
CALSCALE:GREGORIAN
METHOD:PUBLISH
X-WR-CALNAME:Projekt Neubau der Kindertagesstätte Wenighösbach - ELT
X-WR-TIMEZONE:Europe/Berlin
BEGIN:VEVENT
UID:a803c1fa834a8900@ausschreibungsradar.com
DTSTAMP:20260425T114355Z
DTSTART;VALUE=DATE:20241128
DTEND;VALUE=DATE:20241128
SUMMARY:Ausschreibung — Neubau der Kindertagesstätte Wenighösbach - ELT
DESCRIPTION:Phase: Ausschreibung | Beschreibung: Angebote werden eingeholt | Link: https://ausschreibungsradar.com/ausschreibung/519b1083-bc1f-4f03-ae69-d27200ffdc8c/
URL:https://ausschreibungsradar.com/ausschreibung/519b1083-bc1f-4f03-ae69-d27200ffdc8c/
END:VEVENT
BEGIN:VEVENT
UID:8efbbc3540ff6529@ausschreibungsradar.com
DTSTAMP:20260425T114355Z
DTSTART;VALUE=DATE:20241128
DTEND;VALUE=DATE:20241128
SUMMARY:Ausschreibung — Neubau der Kindertagesstätte Wenighösbach - ELT
DESCRIPTION:Phase: Ausschreibung | Beschreibung: Offizielle Ausschreibung mit Bieterfrist. | Link: https://ausschreibungsradar.com/ausschreibung/05727509-4f3b-481b-9d59-d304eaf84eb9/
URL:https://ausschreibungsradar.com/ausschreibung/05727509-4f3b-481b-9d59-d304eaf84eb9/
END:VEVENT
BEGIN:VEVENT
UID:8f4bc4d7760b7f10@ausschreibungsradar.com
DTSTAMP:20260425T114355Z
DTSTART;VALUE=DATE:20250611
DTEND;VALUE=DATE:20250611
SUMMARY:Vergabeergebnis — Neubau der Kindertagesstätte Wenighösbach - ELT
DESCRIPTION:Phase: Vergabeergebnis | Beschreibung: Auftrag wurde zugeschlagen | Link: https://ausschreibungsradar.com/ausschreibung/d45ef795-e52b-419a-8e74-82bd76daa19e/
URL:https://ausschreibungsradar.com/ausschreibung/d45ef795-e52b-419a-8e74-82bd76daa19e/
END:VEVENT
END:VCALENDAR
