BEGIN:VCALENDAR
VERSION:2.0
PRODID:-//AusschreibungsRadar//Timeline//DE
CALSCALE:GREGORIAN
METHOD:PUBLISH
X-WR-CALNAME:Projekt Standards für das kommunale Klimaschutz-Monitoring
X-WR-TIMEZONE:Europe/Berlin
BEGIN:VEVENT
UID:2fc5b9a549a9153e@ausschreibungsradar.com
DTSTAMP:20260425T124258Z
DTSTART;VALUE=DATE:20260115
DTEND;VALUE=DATE:20260115
SUMMARY:Angebotsfrist — Standards für das kommunale Klimaschutz-Monitoring
DESCRIPTION:Phase: Ausschreibung | Beschreibung: Angebote werden eingeholt | Link: https://ausschreibungsradar.com/ausschreibung/51e56f2f-4cbc-433c-ab31-463c67068bcd/
URL:https://ausschreibungsradar.com/ausschreibung/51e56f2f-4cbc-433c-ab31-463c67068bcd/
END:VEVENT
BEGIN:VEVENT
UID:72f4e666801dcfd9@ausschreibungsradar.com
DTSTAMP:20260425T124258Z
DTSTART;VALUE=DATE:20260327
DTEND;VALUE=DATE:20260327
SUMMARY:Vergabeergebnis — Standards für das kommunale Klimaschutz-Monitoring
DESCRIPTION:Phase: Vergabeergebnis | Beschreibung: Auftrag wurde zugeschlagen | Link: https://ausschreibungsradar.com/ausschreibung/40732ad6-ac50-4b65-9c20-3ad0a68a65c3/
URL:https://ausschreibungsradar.com/ausschreibung/40732ad6-ac50-4b65-9c20-3ad0a68a65c3/
END:VEVENT
END:VCALENDAR
