BEGIN:VCALENDAR
VERSION:2.0
PRODID:-//AusschreibungsRadar//Timeline//DE
CALSCALE:GREGORIAN
METHOD:PUBLISH
X-WR-CALNAME:Projekt Erweiterung Mittelschule
X-WR-TIMEZONE:Europe/Berlin
BEGIN:VEVENT
UID:22a852e81c4f8547@ausschreibungsradar.com
DTSTAMP:20260426T004326Z
DTSTART;VALUE=DATE:20251216
DTEND;VALUE=DATE:20251216
SUMMARY:Angebotsfrist — Erweiterung Mittelschule
DESCRIPTION:Phase: Ausschreibung | Beschreibung: Angebote werden eingeholt | Link: https://ausschreibungsradar.com/ausschreibung/4e3fd44a-f201-4078-bd91-7c1a41ac670e/
URL:https://ausschreibungsradar.com/ausschreibung/4e3fd44a-f201-4078-bd91-7c1a41ac670e/
END:VEVENT
BEGIN:VEVENT
UID:bb970f7ea9325164@ausschreibungsradar.com
DTSTAMP:20260426T004326Z
DTSTART;VALUE=DATE:20260127
DTEND;VALUE=DATE:20260127
SUMMARY:Ausschreibung — Erweiterung Mittelschule
DESCRIPTION:Phase: Ausschreibung | Beschreibung: Offizielle Ausschreibung mit Bieterfrist. | Link: https://ausschreibungsradar.com/ausschreibung/f5bf77a4-cf2c-4938-8caf-d3694399fe51/
URL:https://ausschreibungsradar.com/ausschreibung/f5bf77a4-cf2c-4938-8caf-d3694399fe51/
END:VEVENT
BEGIN:VEVENT
UID:ac3b68a16a1c213a@ausschreibungsradar.com
DTSTAMP:20260426T004326Z
DTSTART;VALUE=DATE:20260210
DTEND;VALUE=DATE:20260210
SUMMARY:Zuschlag — Erweiterung Mittelschule
DESCRIPTION:Phase: Zuschlag | Beschreibung: Vergabeergebnis — Auftrag wurde erteilt oder Verfahren beendet. | Link: https://ausschreibungsradar.com/ausschreibung/33dfcd8b-88a6-416a-acf7-885cfa316c6c/
URL:https://ausschreibungsradar.com/ausschreibung/33dfcd8b-88a6-416a-acf7-885cfa316c6c/
END:VEVENT
BEGIN:VEVENT
UID:f588eec662c2e2e7@ausschreibungsradar.com
DTSTAMP:20260426T004326Z
DTSTART;VALUE=DATE:20260216
DTEND;VALUE=DATE:20260216
SUMMARY:Vergabeergebnis — Erweiterung Mittelschule
DESCRIPTION:Phase: Vergabeergebnis | Beschreibung: Auftrag wurde zugeschlagen | Link: https://ausschreibungsradar.com/ausschreibung/51f1d033-7761-4ddf-a37a-bfe6d3eaf445/ | Auftragnehmer: Sporn GmbH
URL:https://ausschreibungsradar.com/ausschreibung/51f1d033-7761-4ddf-a37a-bfe6d3eaf445/
END:VEVENT
END:VCALENDAR
