BEGIN:VCALENDAR
VERSION:2.0
PRODID:-//AusschreibungsRadar//Timeline//DE
CALSCALE:GREGORIAN
METHOD:PUBLISH
X-WR-CALNAME:Projekt Planungsleistungen für die Grundinstandsetzung der Mensa vom
X-WR-TIMEZONE:Europe/Berlin
BEGIN:VEVENT
UID:c4115567e01516c7@ausschreibungsradar.com
DTSTAMP:20260425T202435Z
DTSTART;VALUE=DATE:20250610
DTEND;VALUE=DATE:20250610
SUMMARY:Ausschreibung — Planungsleistungen für die Grundinstandsetzung der Mensa vom
DESCRIPTION:Phase: Ausschreibung | Beschreibung: Angebote werden eingeholt | Link: https://ausschreibungsradar.com/ausschreibung/52339225-ed5e-453d-9a2a-cb6d142b0815/
URL:https://ausschreibungsradar.com/ausschreibung/52339225-ed5e-453d-9a2a-cb6d142b0815/
END:VEVENT
BEGIN:VEVENT
UID:1687c249461b63f4@ausschreibungsradar.com
DTSTAMP:20260425T202435Z
DTSTART;VALUE=DATE:20250610
DTEND;VALUE=DATE:20250610
SUMMARY:Ausschreibung — Planungsleistungen für die Grundinstandsetzung der Mensa vom
DESCRIPTION:Phase: Ausschreibung | Beschreibung: Offizielle Ausschreibung mit Bieterfrist. | Link: https://ausschreibungsradar.com/ausschreibung/a29099f0-8bf4-4db6-bc78-55b63c5dba4f/
URL:https://ausschreibungsradar.com/ausschreibung/a29099f0-8bf4-4db6-bc78-55b63c5dba4f/
END:VEVENT
BEGIN:VEVENT
UID:5926cf6711a2d73d@ausschreibungsradar.com
DTSTAMP:20260425T202435Z
DTSTART;VALUE=DATE:20250909
DTEND;VALUE=DATE:20250909
SUMMARY:Vergabeergebnis — Planungsleistungen für die Grundinstandsetzung der Mensa vom
DESCRIPTION:Phase: Vergabeergebnis | Beschreibung: Auftrag wurde zugeschlagen | Link: https://ausschreibungsradar.com/ausschreibung/b9537fbd-d926-457e-a703-7e7efe9a502f/ | Auftragnehmer: iproplan Planungsgesellsc
URL:https://ausschreibungsradar.com/ausschreibung/b9537fbd-d926-457e-a703-7e7efe9a502f/
END:VEVENT
END:VCALENDAR
