BEGIN:VCALENDAR
VERSION:2.0
PRODID:-//AusschreibungsRadar//Timeline//DE
CALSCALE:GREGORIAN
METHOD:PUBLISH
X-WR-CALNAME:Projekt Abschluss einer nicht-exklusiven Rabattvereinbarung nach § 1
X-WR-TIMEZONE:Europe/Berlin
BEGIN:VEVENT
UID:33b6df5e84755ee0@ausschreibungsradar.com
DTSTAMP:20260425T190301Z
DTSTART;VALUE=DATE:20240909
DTEND;VALUE=DATE:20240909
SUMMARY:Zuschlag — Abschluss einer nicht-exklusiven Rabattvereinbarung nach § 1
DESCRIPTION:Phase: Zuschlag | Beschreibung: Vergabeergebnis — Auftrag wurde erteilt oder Verfahren beendet. | Link: https://ausschreibungsradar.com/ausschreibung/52a7002c-e6ef-4467-b346-71156a370c44/
URL:https://ausschreibungsradar.com/ausschreibung/52a7002c-e6ef-4467-b346-71156a370c44/
END:VEVENT
BEGIN:VEVENT
UID:2093a827e9158978@ausschreibungsradar.com
DTSTAMP:20260425T190301Z
DTSTART;VALUE=DATE:20240909
DTEND;VALUE=DATE:20240909
SUMMARY:Zuschlag — Abschluss einer nicht-exklusiven Rabattvereinbarung nach § 1
DESCRIPTION:Phase: Zuschlag | Beschreibung: Vergabeergebnis — Auftrag wurde erteilt oder Verfahren beendet. | Link: https://ausschreibungsradar.com/ausschreibung/b5750c04-29c9-4e17-abb5-e342f8d9def1/
URL:https://ausschreibungsradar.com/ausschreibung/b5750c04-29c9-4e17-abb5-e342f8d9def1/
END:VEVENT
END:VCALENDAR
