BEGIN:VCALENDAR
VERSION:2.0
PRODID:-//AusschreibungsRadar//Timeline//DE
CALSCALE:GREGORIAN
METHOD:PUBLISH
X-WR-CALNAME:Projekt Zubereitung und Lieferung der Mittagsverpflegung für die Lud
X-WR-TIMEZONE:Europe/Berlin
BEGIN:VEVENT
UID:f88ccb27904d6b02@ausschreibungsradar.com
DTSTAMP:20260425T202947Z
DTSTART;VALUE=DATE:20260205
DTEND;VALUE=DATE:20260205
SUMMARY:Ausschreibung — Zubereitung und Lieferung der Mittagsverpflegung für die Lud
DESCRIPTION:Phase: Ausschreibung | Beschreibung: Angebote werden eingeholt | Link: https://ausschreibungsradar.com/ausschreibung/e29738dd-73af-43cd-855b-22348b69ef3b/
URL:https://ausschreibungsradar.com/ausschreibung/e29738dd-73af-43cd-855b-22348b69ef3b/
END:VEVENT
BEGIN:VEVENT
UID:650a73843289eb9c@ausschreibungsradar.com
DTSTAMP:20260425T202947Z
DTSTART;VALUE=DATE:20260421
DTEND;VALUE=DATE:20260421
SUMMARY:Vergabeergebnis — Zubereitung und Lieferung der Mittagsverpflegung für die Lud
DESCRIPTION:Phase: Vergabeergebnis | Beschreibung: Auftrag wurde zugeschlagen | Link: https://ausschreibungsradar.com/ausschreibung/52faf3d5-9416-4b6e-8fdf-e71b613e2195/
URL:https://ausschreibungsradar.com/ausschreibung/52faf3d5-9416-4b6e-8fdf-e71b613e2195/
END:VEVENT
END:VCALENDAR
