BEGIN:VCALENDAR
VERSION:2.0
PRODID:-//AusschreibungsRadar//Timeline//DE
CALSCALE:GREGORIAN
METHOD:PUBLISH
X-WR-CALNAME:Projekt Rekultivierung Kuhlache - Transport, Entsorgung/ Verwetung
X-WR-TIMEZONE:Europe/Berlin
BEGIN:VEVENT
UID:c3ab90c24459ec64@ausschreibungsradar.com
DTSTAMP:20260425T180809Z
DTSTART;VALUE=DATE:20251015
DTEND;VALUE=DATE:20251015
SUMMARY:Ausschreibung — Rekultivierung Kuhlache - Transport\, Entsorgung/ Verwetung
DESCRIPTION:Phase: Ausschreibung | Beschreibung: Angebote werden eingeholt | Link: https://ausschreibungsradar.com/ausschreibung/4667f29b-cf2c-4da2-ad26-dcf996ca1543/
URL:https://ausschreibungsradar.com/ausschreibung/4667f29b-cf2c-4da2-ad26-dcf996ca1543/
END:VEVENT
BEGIN:VEVENT
UID:3c8fdb891ce0350e@ausschreibungsradar.com
DTSTAMP:20260425T180809Z
DTSTART;VALUE=DATE:20260323
DTEND;VALUE=DATE:20260323
SUMMARY:Vergabeergebnis — Rekultivierung Kuhlache - Transport\, Entsorgung/ Verwetung
DESCRIPTION:Phase: Vergabeergebnis | Beschreibung: Auftrag wurde zugeschlagen | Link: https://ausschreibungsradar.com/ausschreibung/5325d1d8-a3ef-445f-b827-2355e089c7c0/
URL:https://ausschreibungsradar.com/ausschreibung/5325d1d8-a3ef-445f-b827-2355e089c7c0/
END:VEVENT
END:VCALENDAR
