BEGIN:VCALENDAR
VERSION:2.0
PRODID:-//AusschreibungsRadar//Timeline//DE
CALSCALE:GREGORIAN
METHOD:PUBLISH
X-WR-CALNAME:Projekt Fraunhofer IEG Cottbus - 70-00002-3840-B Objektplanung Freia
X-WR-TIMEZONE:Europe/Berlin
BEGIN:VEVENT
UID:1220fac381a037d6@ausschreibungsradar.com
DTSTAMP:20260425T150610Z
DTSTART;VALUE=DATE:20250313
DTEND;VALUE=DATE:20250313
SUMMARY:Ausschreibung — Fraunhofer IEG Cottbus - 70-00002-3840-B Objektplanung Freia
DESCRIPTION:Phase: Ausschreibung | Beschreibung: Angebote werden eingeholt | Link: https://ausschreibungsradar.com/ausschreibung/532cd3c2-1208-4930-93eb-ab1c510a66a6/ | Geschätzter Wert: 130000 €
URL:https://ausschreibungsradar.com/ausschreibung/532cd3c2-1208-4930-93eb-ab1c510a66a6/
END:VEVENT
BEGIN:VEVENT
UID:a609b5991f59470e@ausschreibungsradar.com
DTSTAMP:20260425T150610Z
DTSTART;VALUE=DATE:20250313
DTEND;VALUE=DATE:20250313
SUMMARY:Ausschreibung — Fraunhofer IEG Cottbus - 70-00002-3840-B Objektplanung Freia
DESCRIPTION:Phase: Ausschreibung | Beschreibung: Offizielle Ausschreibung mit Bieterfrist. | Link: https://ausschreibungsradar.com/ausschreibung/c2d3a330-0d9a-4f34-94a5-4ff5e8d2468a/
URL:https://ausschreibungsradar.com/ausschreibung/c2d3a330-0d9a-4f34-94a5-4ff5e8d2468a/
END:VEVENT
BEGIN:VEVENT
UID:86cb1f4a1052b45a@ausschreibungsradar.com
DTSTAMP:20260425T150610Z
DTSTART;VALUE=DATE:20250402
DTEND;VALUE=DATE:20250402
SUMMARY:Ausschreibung — Fraunhofer IEG Cottbus - 70-00002-3840-B Objektplanung Freia
DESCRIPTION:Phase: Ausschreibung | Beschreibung: Offizielle Ausschreibung mit Bieterfrist. | Link: https://ausschreibungsradar.com/ausschreibung/b45846bb-2868-4a27-b46e-6c634f417ccf/
URL:https://ausschreibungsradar.com/ausschreibung/b45846bb-2868-4a27-b46e-6c634f417ccf/
END:VEVENT
END:VCALENDAR
