BEGIN:VCALENDAR
VERSION:2.0
PRODID:-//AusschreibungsRadar//Timeline//DE
CALSCALE:GREGORIAN
METHOD:PUBLISH
X-WR-CALNAME:Projekt Erweiterung Betriebshof Kamen - Dachdeckerarbeiten
X-WR-TIMEZONE:Europe/Berlin
BEGIN:VEVENT
UID:fb3a33a49f936b1d@ausschreibungsradar.com
DTSTAMP:20260424T105522Z
DTSTART;VALUE=DATE:20250620
DTEND;VALUE=DATE:20250620
SUMMARY:Zuschlag — Erweiterung Betriebshof Kamen - Dachdeckerarbeiten
DESCRIPTION:Phase: Zuschlag | Beschreibung: Vergabeergebnis — Auftrag wurde erteilt oder Verfahren beendet. | Link: https://ausschreibungsradar.com/ausschreibung/0f420072-b050-47dc-80ce-d88c1f454438/
URL:https://ausschreibungsradar.com/ausschreibung/0f420072-b050-47dc-80ce-d88c1f454438/
END:VEVENT
BEGIN:VEVENT
UID:681f6141cf30724c@ausschreibungsradar.com
DTSTAMP:20260424T105522Z
DTSTART;VALUE=DATE:20250826
DTEND;VALUE=DATE:20250826
SUMMARY:Angebotsfrist — Erweiterung Betriebshof Kamen - Dachdeckerarbeiten
DESCRIPTION:Phase: Ausschreibung | Beschreibung: Angebote werden eingeholt | Link: https://ausschreibungsradar.com/ausschreibung/536250e6-4b86-4be3-a5ce-9d90c8d9bf03/
URL:https://ausschreibungsradar.com/ausschreibung/536250e6-4b86-4be3-a5ce-9d90c8d9bf03/
END:VEVENT
BEGIN:VEVENT
UID:12692291a126ea2e@ausschreibungsradar.com
DTSTAMP:20260424T105522Z
DTSTART;VALUE=DATE:20250626
DTEND;VALUE=DATE:20250626
SUMMARY:Ausschreibung — Erweiterung Betriebshof Kamen - Dachdeckerarbeiten
DESCRIPTION:Phase: Ausschreibung | Beschreibung: Offizielle Ausschreibung mit Bieterfrist. | Link: https://ausschreibungsradar.com/ausschreibung/016bb672-0694-4227-b590-5bbc70fa50bd/
URL:https://ausschreibungsradar.com/ausschreibung/016bb672-0694-4227-b590-5bbc70fa50bd/
END:VEVENT
BEGIN:VEVENT
UID:876aa43641e56541@ausschreibungsradar.com
DTSTAMP:20260424T105522Z
DTSTART;VALUE=DATE:20250626
DTEND;VALUE=DATE:20250626
SUMMARY:Ausschreibung — Erweiterung Betriebshof Kamen - Dachdeckerarbeiten
DESCRIPTION:Phase: Ausschreibung | Beschreibung: Offizielle Ausschreibung mit Bieterfrist. | Link: https://ausschreibungsradar.com/ausschreibung/f5c4ea83-80c5-4a59-970c-954c3a0424ad/
URL:https://ausschreibungsradar.com/ausschreibung/f5c4ea83-80c5-4a59-970c-954c3a0424ad/
END:VEVENT
BEGIN:VEVENT
UID:fa6a388a70d6ca9e@ausschreibungsradar.com
DTSTAMP:20260424T105522Z
DTSTART;VALUE=DATE:20250929
DTEND;VALUE=DATE:20250929
SUMMARY:Vergabeergebnis — Erweiterung Betriebshof Kamen - Dachdeckerarbeiten
DESCRIPTION:Phase: Vergabeergebnis | Beschreibung: Auftrag wurde zugeschlagen | Link: https://ausschreibungsradar.com/ausschreibung/6fd70d24-467a-44c3-9154-e290e6358f13/
URL:https://ausschreibungsradar.com/ausschreibung/6fd70d24-467a-44c3-9154-e290e6358f13/
END:VEVENT
END:VCALENDAR
