BEGIN:VCALENDAR
VERSION:2.0
PRODID:-//AusschreibungsRadar//Timeline//DE
CALSCALE:GREGORIAN
METHOD:PUBLISH
X-WR-CALNAME:Projekt Leistungen der Technischen Ausrüstung - Anlagengruppe 4, 5 u
X-WR-TIMEZONE:Europe/Berlin
BEGIN:VEVENT
UID:000b8b32dc60ded9@ausschreibungsradar.com
DTSTAMP:20260425T193954Z
DTSTART;VALUE=DATE:20241119
DTEND;VALUE=DATE:20241119
SUMMARY:Angebotsfrist — Leistungen der Technischen Ausrüstung - Anlagengruppe 4\, 5 u
DESCRIPTION:Phase: Ausschreibung | Beschreibung: Angebote werden eingeholt | Link: https://ausschreibungsradar.com/ausschreibung/53688134-05bf-4108-9484-52d973bc16e2/ | Geschätzter Wert: 382000 €
URL:https://ausschreibungsradar.com/ausschreibung/53688134-05bf-4108-9484-52d973bc16e2/
END:VEVENT
BEGIN:VEVENT
UID:00616a0739b9e8ac@ausschreibungsradar.com
DTSTAMP:20260425T193954Z
DTSTART;VALUE=DATE:20241126
DTEND;VALUE=DATE:20241126
SUMMARY:Vergabeergebnis — Leistungen der Technischen Ausrüstung - Anlagengruppe 4\, 5 u
DESCRIPTION:Phase: Vergabeergebnis | Beschreibung: Sonstige Gründe | Link: https://ausschreibungsradar.com/ausschreibung/d1e580c3-d8d8-4be2-8db6-a92912a274b0/ | Geschätzter Wert: 382000 €
URL:https://ausschreibungsradar.com/ausschreibung/d1e580c3-d8d8-4be2-8db6-a92912a274b0/
END:VEVENT
BEGIN:VEVENT
UID:c740c252da7cfb2e@ausschreibungsradar.com
DTSTAMP:20260425T193954Z
DTSTART;VALUE=DATE:20241129
DTEND;VALUE=DATE:20241129
SUMMARY:Ausschreibung — Leistungen der Technischen Ausrüstung - Anlagengruppe 4\, 5 u
DESCRIPTION:Phase: Ausschreibung | Beschreibung: Offizielle Ausschreibung mit Bieterfrist. | Link: https://ausschreibungsradar.com/ausschreibung/2afa040b-0a14-437f-8862-7fb261ddad8c/
URL:https://ausschreibungsradar.com/ausschreibung/2afa040b-0a14-437f-8862-7fb261ddad8c/
END:VEVENT
END:VCALENDAR
