BEGIN:VCALENDAR
VERSION:2.0
PRODID:-//AusschreibungsRadar//Timeline//DE
CALSCALE:GREGORIAN
METHOD:PUBLISH
X-WR-CALNAME:Projekt Straßenbeleuchtung Leuchtkörpertausch
X-WR-TIMEZONE:Europe/Berlin
BEGIN:VEVENT
UID:7948c0c0f00be24e@ausschreibungsradar.com
DTSTAMP:20260425T034633Z
DTSTART;VALUE=DATE:20251111
DTEND;VALUE=DATE:20251111
SUMMARY:Angebotsfrist — Straßenbeleuchtung Leuchtkörpertausch
DESCRIPTION:Phase: Ausschreibung | Beschreibung: Angebote werden eingeholt | Link: https://ausschreibungsradar.com/ausschreibung/53b69118-774b-46c5-93cd-4e211a882288/
URL:https://ausschreibungsradar.com/ausschreibung/53b69118-774b-46c5-93cd-4e211a882288/
END:VEVENT
END:VCALENDAR
