BEGIN:VCALENDAR
VERSION:2.0
PRODID:-//AusschreibungsRadar//Timeline//DE
CALSCALE:GREGORIAN
METHOD:PUBLISH
X-WR-CALNAME:Projekt Planungsleistungen für Lichtsignalanlagen (LSA)
X-WR-TIMEZONE:Europe/Berlin
BEGIN:VEVENT
UID:80f0408ccf2d2662@ausschreibungsradar.com
DTSTAMP:20260425T180823Z
DTSTART;VALUE=DATE:20231211
DTEND;VALUE=DATE:20231211
SUMMARY:Angebotsfrist — Planungsleistungen für Lichtsignalanlagen (LSA)
DESCRIPTION:Phase: Ausschreibung | Beschreibung: Angebote werden eingeholt | Link: https://ausschreibungsradar.com/ausschreibung/90e9063b-599a-447a-9b5e-35f5d2189792/
URL:https://ausschreibungsradar.com/ausschreibung/90e9063b-599a-447a-9b5e-35f5d2189792/
END:VEVENT
BEGIN:VEVENT
UID:606dff1b6f56f7fd@ausschreibungsradar.com
DTSTAMP:20260425T180823Z
DTSTART;VALUE=DATE:20240119
DTEND;VALUE=DATE:20240119
SUMMARY:Vergabeergebnis — Planungsleistungen für Lichtsignalanlagen (LSA)
DESCRIPTION:Phase: Vergabeergebnis | Beschreibung: Auftrag wurde zugeschlagen | Link: https://ausschreibungsradar.com/ausschreibung/53e440d1-bd32-47e1-a5e6-28fe9a5f6295/
URL:https://ausschreibungsradar.com/ausschreibung/53e440d1-bd32-47e1-a5e6-28fe9a5f6295/
END:VEVENT
BEGIN:VEVENT
UID:7382c00b0a1d499d@ausschreibungsradar.com
DTSTAMP:20260425T180823Z
DTSTART;VALUE=DATE:20240122
DTEND;VALUE=DATE:20240122
SUMMARY:Zuschlag — Planungsleistungen für Lichtsignalanlagen (LSA)
DESCRIPTION:Phase: Zuschlag | Beschreibung: Vergabeergebnis — Auftrag wurde erteilt oder Verfahren beendet. | Link: https://ausschreibungsradar.com/ausschreibung/ted-41671-2024/
URL:https://ausschreibungsradar.com/ausschreibung/ted-41671-2024/
END:VEVENT
END:VCALENDAR
