BEGIN:VCALENDAR
VERSION:2.0
PRODID:-//AusschreibungsRadar//Timeline//DE
CALSCALE:GREGORIAN
METHOD:PUBLISH
X-WR-CALNAME:Projekt Neubau einer Kläranlage im Markt Rennertshofen
X-WR-TIMEZONE:Europe/Berlin
BEGIN:VEVENT
UID:d22542941b873ab2@ausschreibungsradar.com
DTSTAMP:20260425T163700Z
DTSTART;VALUE=DATE:20250717
DTEND;VALUE=DATE:20250717
SUMMARY:Angebotsfrist — Neubau einer Kläranlage im Markt Rennertshofen
DESCRIPTION:Phase: Ausschreibung | Beschreibung: Angebote werden eingeholt | Link: https://ausschreibungsradar.com/ausschreibung/542133ca-d792-46f2-83b8-4361a3c75a50/
URL:https://ausschreibungsradar.com/ausschreibung/542133ca-d792-46f2-83b8-4361a3c75a50/
END:VEVENT
END:VCALENDAR
