BEGIN:VCALENDAR
VERSION:2.0
PRODID:-//AusschreibungsRadar//Timeline//DE
CALSCALE:GREGORIAN
METHOD:PUBLISH
X-WR-CALNAME:Projekt Winter- und Reinigungsdienst (Straßen- und Wegereinigung) au
X-WR-TIMEZONE:Europe/Berlin
BEGIN:VEVENT
UID:484908996e4eca85@ausschreibungsradar.com
DTSTAMP:20260425T141530Z
DTSTART;VALUE=DATE:20250812
DTEND;VALUE=DATE:20250812
SUMMARY:Angebotsfrist — Winter- und Reinigungsdienst (Straßen- und Wegereinigung) au
DESCRIPTION:Phase: Ausschreibung | Beschreibung: Angebote werden eingeholt | Link: https://ausschreibungsradar.com/ausschreibung/544bc13c-a78c-4a5e-bd82-63a2aea2e180/
URL:https://ausschreibungsradar.com/ausschreibung/544bc13c-a78c-4a5e-bd82-63a2aea2e180/
END:VEVENT
BEGIN:VEVENT
UID:2ad988b36331d077@ausschreibungsradar.com
DTSTAMP:20260425T141530Z
DTSTART;VALUE=DATE:20250910
DTEND;VALUE=DATE:20250910
SUMMARY:Vergabeergebnis — Winter- und Reinigungsdienst (Straßen- und Wegereinigung) au
DESCRIPTION:Phase: Vergabeergebnis | Beschreibung: Auftrag wurde zugeschlagen | Link: https://ausschreibungsradar.com/ausschreibung/54d1c873-a29f-4017-94be-53c2d3150d30/
URL:https://ausschreibungsradar.com/ausschreibung/54d1c873-a29f-4017-94be-53c2d3150d30/
END:VEVENT
END:VCALENDAR
