BEGIN:VCALENDAR
VERSION:2.0
PRODID:-//AusschreibungsRadar//Timeline//DE
CALSCALE:GREGORIAN
METHOD:PUBLISH
X-WR-CALNAME:Projekt Sportplatz/Wohnung, Grieboer Schulstr. 3,06886 Luth. Wittenb
X-WR-TIMEZONE:Europe/Berlin
BEGIN:VEVENT
UID:022ea5bed4d1b6b9@ausschreibungsradar.com
DTSTAMP:20260426T031039Z
DTSTART;VALUE=DATE:20260409
DTEND;VALUE=DATE:20260409
SUMMARY:Angebotsfrist — Sportplatz/Wohnung\, Grieboer Schulstr. 3\,06886 Luth. Wittenb
DESCRIPTION:Phase: Ausschreibung | Beschreibung: Angebote werden eingeholt | Link: https://ausschreibungsradar.com/ausschreibung/546ae9cd-516e-4318-83d8-4124317feeb3/
URL:https://ausschreibungsradar.com/ausschreibung/546ae9cd-516e-4318-83d8-4124317feeb3/
END:VEVENT
END:VCALENDAR
