BEGIN:VCALENDAR
VERSION:2.0
PRODID:-//AusschreibungsRadar//Timeline//DE
CALSCALE:GREGORIAN
METHOD:PUBLISH
X-WR-CALNAME:Projekt Rahmenvereinbarung zu der Lieferung digitalen Tafeln Los 3 H
X-WR-TIMEZONE:Europe/Berlin
BEGIN:VEVENT
UID:ea7dc24de557cd8a@ausschreibungsradar.com
DTSTAMP:20260426T025527Z
DTSTART;VALUE=DATE:20260420
DTEND;VALUE=DATE:20260420
SUMMARY:Ausschreibung — Rahmenvereinbarung zu der Lieferung digitalen Tafeln Los 3 H
DESCRIPTION:Phase: Ausschreibung | Beschreibung: Verfahren abgebrochen | Link: https://ausschreibungsradar.com/ausschreibung/54f2c7c1-3751-421f-b8d6-2dc685fe553c/ | Geschätzter Wert: 10000000 €
URL:https://ausschreibungsradar.com/ausschreibung/54f2c7c1-3751-421f-b8d6-2dc685fe553c/
END:VEVENT
END:VCALENDAR
