BEGIN:VCALENDAR
VERSION:2.0
PRODID:-//AusschreibungsRadar//Timeline//DE
CALSCALE:GREGORIAN
METHOD:PUBLISH
X-WR-CALNAME:Projekt Estricharbeiten 2. BA
X-WR-TIMEZONE:Europe/Berlin
BEGIN:VEVENT
UID:a74edae4e82ee645@ausschreibungsradar.com
DTSTAMP:20260425T190212Z
DTSTART;VALUE=DATE:20240829
DTEND;VALUE=DATE:20240829
SUMMARY:Angebotsfrist — Estricharbeiten 2. BA
DESCRIPTION:Phase: Ausschreibung | Beschreibung: Angebote werden eingeholt | Link: https://ausschreibungsradar.com/ausschreibung/7c3aaa93-e969-4f77-acb3-acaff63a57dc/
URL:https://ausschreibungsradar.com/ausschreibung/7c3aaa93-e969-4f77-acb3-acaff63a57dc/
END:VEVENT
BEGIN:VEVENT
UID:75bd03dcd4c5226c@ausschreibungsradar.com
DTSTAMP:20260425T190212Z
DTSTART;VALUE=DATE:20241113
DTEND;VALUE=DATE:20241113
SUMMARY:Vergabeergebnis — Estricharbeiten 2. BA
DESCRIPTION:Phase: Vergabeergebnis | Beschreibung: Auftrag wurde zugeschlagen | Link: https://ausschreibungsradar.com/ausschreibung/5522c3a9-5bca-4cbd-b8ac-896a66fb98d9/ | Auftragnehmer: Zebo Fußbodentechnik GmbH
URL:https://ausschreibungsradar.com/ausschreibung/5522c3a9-5bca-4cbd-b8ac-896a66fb98d9/
END:VEVENT
BEGIN:VEVENT
UID:accfbc9b41b613cf@ausschreibungsradar.com
DTSTAMP:20260425T190212Z
DTSTART;VALUE=DATE:20241113
DTEND;VALUE=DATE:20241113
SUMMARY:Ausschreibung — Estricharbeiten 2. BA
DESCRIPTION:Phase: Ausschreibung | Beschreibung: Offizielle Ausschreibung mit Bieterfrist. | Link: https://ausschreibungsradar.com/ausschreibung/6c7407c1-c695-4a87-ab6a-3a5d13d3d4d3/
URL:https://ausschreibungsradar.com/ausschreibung/6c7407c1-c695-4a87-ab6a-3a5d13d3d4d3/
END:VEVENT
END:VCALENDAR
