BEGIN:VCALENDAR
VERSION:2.0
PRODID:-//AusschreibungsRadar//Timeline//DE
CALSCALE:GREGORIAN
METHOD:PUBLISH
X-WR-CALNAME:Projekt 403 HB CGN RLT - Raumlufttechnik
X-WR-TIMEZONE:Europe/Berlin
BEGIN:VEVENT
UID:f1d66ec57bb72c92@ausschreibungsradar.com
DTSTAMP:20260425T115201Z
DTSTART;VALUE=DATE:20250617
DTEND;VALUE=DATE:20250617
SUMMARY:Ausschreibung — 403 HB CGN RLT - Raumlufttechnik
DESCRIPTION:Phase: Ausschreibung | Beschreibung: Offizielle Ausschreibung mit Bieterfrist. | Link: https://ausschreibungsradar.com/ausschreibung/fcf24588-275e-4b21-8cb5-c22ffc7a5c2d/
URL:https://ausschreibungsradar.com/ausschreibung/fcf24588-275e-4b21-8cb5-c22ffc7a5c2d/
END:VEVENT
BEGIN:VEVENT
UID:1406e1df19c7fdf2@ausschreibungsradar.com
DTSTAMP:20260425T115201Z
DTSTART;VALUE=DATE:20250718
DTEND;VALUE=DATE:20250718
SUMMARY:Ausschreibung — 403 HB CGN RLT - Raumlufttechnik
DESCRIPTION:Phase: Ausschreibung | Beschreibung: Angebote werden eingeholt | Link: https://ausschreibungsradar.com/ausschreibung/554755c3-6c67-4f72-b6d2-26ace8dc4a02/
URL:https://ausschreibungsradar.com/ausschreibung/554755c3-6c67-4f72-b6d2-26ace8dc4a02/
END:VEVENT
END:VCALENDAR
