BEGIN:VCALENDAR
VERSION:2.0
PRODID:-//AusschreibungsRadar//Timeline//DE
CALSCALE:GREGORIAN
METHOD:PUBLISH
X-WR-CALNAME:Projekt 2000268444 SL Resilienz
X-WR-TIMEZONE:Europe/Berlin
BEGIN:VEVENT
UID:2b08a03aaaa1fc58@ausschreibungsradar.com
DTSTAMP:20260424T203933Z
DTSTART;VALUE=DATE:20231124
DTEND;VALUE=DATE:20231124
SUMMARY:Ausschreibung — 2000268444 SL Resilienz
DESCRIPTION:Phase: Ausschreibung | Beschreibung: Angebote werden eingeholt | Link: https://ausschreibungsradar.com/ausschreibung/2ac26815-3efa-4a28-a1e7-bed2d366a262/
URL:https://ausschreibungsradar.com/ausschreibung/2ac26815-3efa-4a28-a1e7-bed2d366a262/
END:VEVENT
BEGIN:VEVENT
UID:4f7949cebd2fad66@ausschreibungsradar.com
DTSTAMP:20260424T203933Z
DTSTART;VALUE=DATE:20240805
DTEND;VALUE=DATE:20240805
SUMMARY:Zuschlag — 2000268444 SL Resilienz
DESCRIPTION:Phase: Zuschlag | Beschreibung: Vergabeergebnis — Auftrag wurde erteilt oder Verfahren beendet. | Link: https://ausschreibungsradar.com/ausschreibung/67f31a26-4906-4dbe-9a6e-d910cbd02346/
URL:https://ausschreibungsradar.com/ausschreibung/67f31a26-4906-4dbe-9a6e-d910cbd02346/
END:VEVENT
BEGIN:VEVENT
UID:587788a1b1e8e405@ausschreibungsradar.com
DTSTAMP:20260424T203933Z
DTSTART;VALUE=DATE:20250725
DTEND;VALUE=DATE:20250725
SUMMARY:Zuschlag — 2000268444 SL Resilienz
DESCRIPTION:Phase: Zuschlag | Beschreibung: Vergabeergebnis — Auftrag wurde erteilt oder Verfahren beendet. | Link: https://ausschreibungsradar.com/ausschreibung/7f5b83e2-b914-4cd1-8cb7-ef3d7d1229cf/
URL:https://ausschreibungsradar.com/ausschreibung/7f5b83e2-b914-4cd1-8cb7-ef3d7d1229cf/
END:VEVENT
BEGIN:VEVENT
UID:368c42bfd09a8934@ausschreibungsradar.com
DTSTAMP:20260424T203933Z
DTSTART;VALUE=DATE:20260323
DTEND;VALUE=DATE:20260323
SUMMARY:Zuschlag — 2000268444 SL Resilienz
DESCRIPTION:Phase: Zuschlag | Beschreibung: Vergabeergebnis — Auftrag wurde erteilt oder Verfahren beendet. | Link: https://ausschreibungsradar.com/ausschreibung/d2017b44-6fe1-4086-b445-8e03c2ac10ec/
URL:https://ausschreibungsradar.com/ausschreibung/d2017b44-6fe1-4086-b445-8e03c2ac10ec/
END:VEVENT
BEGIN:VEVENT
UID:23bd101732b8390d@ausschreibungsradar.com
DTSTAMP:20260424T203933Z
DTSTART;VALUE=DATE:20260407
DTEND;VALUE=DATE:20260407
SUMMARY:Zuschlag — 2000268444 SL Resilienz
DESCRIPTION:Phase: Zuschlag | Beschreibung: Vergabeergebnis — Auftrag wurde erteilt oder Verfahren beendet. | Link: https://ausschreibungsradar.com/ausschreibung/7be52b91-0459-44d5-93a9-d8b2dab9b838/
URL:https://ausschreibungsradar.com/ausschreibung/7be52b91-0459-44d5-93a9-d8b2dab9b838/
END:VEVENT
BEGIN:VEVENT
UID:c2a35dff8e085fd4@ausschreibungsradar.com
DTSTAMP:20260424T203933Z
DTSTART;VALUE=DATE:20260410
DTEND;VALUE=DATE:20260410
SUMMARY:Vergabeergebnis — 2000268444 SL Resilienz
DESCRIPTION:Phase: Vergabeergebnis | Beschreibung: Auftrag wurde zugeschlagen | Link: https://ausschreibungsradar.com/ausschreibung/5584321f-be4a-4531-83d8-1b2473e337c2/
URL:https://ausschreibungsradar.com/ausschreibung/5584321f-be4a-4531-83d8-1b2473e337c2/
END:VEVENT
BEGIN:VEVENT
UID:f0c358c4d4c006f0@ausschreibungsradar.com
DTSTAMP:20260424T203933Z
DTSTART;VALUE=DATE:20260410
DTEND;VALUE=DATE:20260410
SUMMARY:Zuschlag — 2000268444 SL Resilienz
DESCRIPTION:Phase: Zuschlag | Beschreibung: Vergabeergebnis — Auftrag wurde erteilt oder Verfahren beendet. | Link: https://ausschreibungsradar.com/ausschreibung/c7ba92e0-edaa-4955-8686-07155d2c399c/
URL:https://ausschreibungsradar.com/ausschreibung/c7ba92e0-edaa-4955-8686-07155d2c399c/
END:VEVENT
END:VCALENDAR
