BEGIN:VCALENDAR
VERSION:2.0
PRODID:-//AusschreibungsRadar//Timeline//DE
CALSCALE:GREGORIAN
METHOD:PUBLISH
X-WR-CALNAME:Projekt Erneuerung Biologie 2; Los 2 Verfahrens- und Maschinentechni
X-WR-TIMEZONE:Europe/Berlin
BEGIN:VEVENT
UID:31ca5ced0e4ba88c@ausschreibungsradar.com
DTSTAMP:20260425T034521Z
DTSTART;VALUE=DATE:20241218
DTEND;VALUE=DATE:20241218
SUMMARY:Angebotsfrist — Erneuerung Biologie 2\; Los 2 Verfahrens- und Maschinentechni
DESCRIPTION:Phase: Ausschreibung | Beschreibung: Angebote werden eingeholt | Link: https://ausschreibungsradar.com/ausschreibung/55ec1bd6-51f4-498c-b551-95c0bb9eb45d/
URL:https://ausschreibungsradar.com/ausschreibung/55ec1bd6-51f4-498c-b551-95c0bb9eb45d/
END:VEVENT
BEGIN:VEVENT
UID:80201a1f04cd6f73@ausschreibungsradar.com
DTSTAMP:20260425T034521Z
DTSTART;VALUE=DATE:20241106
DTEND;VALUE=DATE:20241106
SUMMARY:Ausschreibung — Erneuerung Biologie 2\; Los 2 Verfahrens- und Maschinentechni
DESCRIPTION:Phase: Ausschreibung | Beschreibung: Offizielle Ausschreibung mit Bieterfrist. | Link: https://ausschreibungsradar.com/ausschreibung/30e10ce8-1ff2-439c-bbb0-f529bd629b72/
URL:https://ausschreibungsradar.com/ausschreibung/30e10ce8-1ff2-439c-bbb0-f529bd629b72/
END:VEVENT
END:VCALENDAR
