BEGIN:VCALENDAR
VERSION:2.0
PRODID:-//AusschreibungsRadar//Timeline//DE
CALSCALE:GREGORIAN
METHOD:PUBLISH
X-WR-CALNAME:Projekt Pflege von öffentlichen Grünflächen im Stadtgebiet Langen
X-WR-TIMEZONE:Europe/Berlin
BEGIN:VEVENT
UID:1889d9e325c28bb0@ausschreibungsradar.com
DTSTAMP:20260425T023937Z
DTSTART;VALUE=DATE:20260119
DTEND;VALUE=DATE:20260119
SUMMARY:Angebotsfrist — Pflege von öffentlichen Grünflächen im Stadtgebiet Langen
DESCRIPTION:Phase: Ausschreibung | Beschreibung: Angebote werden eingeholt | Link: https://ausschreibungsradar.com/ausschreibung/883a08eb-475d-4006-a4b7-d72d87bcbfd4/
URL:https://ausschreibungsradar.com/ausschreibung/883a08eb-475d-4006-a4b7-d72d87bcbfd4/
END:VEVENT
BEGIN:VEVENT
UID:9753725ee6125cdf@ausschreibungsradar.com
DTSTAMP:20260425T023937Z
DTSTART;VALUE=DATE:20260213
DTEND;VALUE=DATE:20260213
SUMMARY:Vergabeergebnis — Pflege von öffentlichen Grünflächen im Stadtgebiet Langen
DESCRIPTION:Phase: Vergabeergebnis | Beschreibung: Auftrag wurde zugeschlagen | Link: https://ausschreibungsradar.com/ausschreibung/5638efd6-2452-4c55-bc1c-9ab03860a174/
URL:https://ausschreibungsradar.com/ausschreibung/5638efd6-2452-4c55-bc1c-9ab03860a174/
END:VEVENT
END:VCALENDAR
