BEGIN:VCALENDAR
VERSION:2.0
PRODID:-//AusschreibungsRadar//Timeline//DE
CALSCALE:GREGORIAN
METHOD:PUBLISH
X-WR-CALNAME:Projekt S0327 Winterdienst
X-WR-TIMEZONE:Europe/Berlin
BEGIN:VEVENT
UID:770872593f90e20f@ausschreibungsradar.com
DTSTAMP:20260424T042855Z
DTSTART;VALUE=DATE:20260706
DTEND;VALUE=DATE:20260706
SUMMARY:Angebotsfrist — S0327 Winterdienst
DESCRIPTION:Phase: Ausschreibung | Beschreibung: Angebote werden eingeholt | Link: https://ausschreibungsradar.com/ausschreibung/566b2ccd-8af0-456d-b824-5ffbe036a77f/
URL:https://ausschreibungsradar.com/ausschreibung/566b2ccd-8af0-456d-b824-5ffbe036a77f/
END:VEVENT
END:VCALENDAR
