BEGIN:VCALENDAR
VERSION:2.0
PRODID:-//AusschreibungsRadar//Timeline//DE
CALSCALE:GREGORIAN
METHOD:PUBLISH
X-WR-CALNAME:Projekt Robotersystem zur Satellitensimulation und zur additiven/sub
X-WR-TIMEZONE:Europe/Berlin
BEGIN:VEVENT
UID:8c2198fba64dc1f2@ausschreibungsradar.com
DTSTAMP:20260426T034849Z
DTSTART;VALUE=DATE:20240220
DTEND;VALUE=DATE:20240220
SUMMARY:Ausschreibung — Robotersystem zur Satellitensimulation und zur additiven/sub
DESCRIPTION:Phase: Ausschreibung | Beschreibung: Angebote werden eingeholt | Link: https://ausschreibungsradar.com/ausschreibung/5710fe46-c9c3-4565-8c5c-8b05871cceff/ | Geschätzter Wert: 274000 €
URL:https://ausschreibungsradar.com/ausschreibung/5710fe46-c9c3-4565-8c5c-8b05871cceff/
END:VEVENT
BEGIN:VEVENT
UID:8b165e4b7e66174e@ausschreibungsradar.com
DTSTAMP:20260426T034849Z
DTSTART;VALUE=DATE:20240604
DTEND;VALUE=DATE:20240604
SUMMARY:Vergabeergebnis — Robotersystem zur Satellitensimulation und zur additiven/sub
DESCRIPTION:Phase: Vergabeergebnis | Beschreibung: Auftrag wurde zugeschlagen | Link: https://ausschreibungsradar.com/ausschreibung/84524722-68d8-48ab-8fbb-1e8997c6e018/ | Geschätzter Wert: 274000 €
URL:https://ausschreibungsradar.com/ausschreibung/84524722-68d8-48ab-8fbb-1e8997c6e018/
END:VEVENT
END:VCALENDAR
