BEGIN:VCALENDAR
VERSION:2.0
PRODID:-//AusschreibungsRadar//Timeline//DE
CALSCALE:GREGORIAN
METHOD:PUBLISH
X-WR-CALNAME:Projekt Umbau und Sanierung Rathaus Gengenbach - Zimmererarbeiten
X-WR-TIMEZONE:Europe/Berlin
BEGIN:VEVENT
UID:6425192f3be1ef71@ausschreibungsradar.com
DTSTAMP:20260425T175155Z
DTSTART;VALUE=DATE:20260220
DTEND;VALUE=DATE:20260220
SUMMARY:Angebotsfrist — Umbau und Sanierung Rathaus Gengenbach - Zimmererarbeiten
DESCRIPTION:Phase: Ausschreibung | Beschreibung: Angebote werden eingeholt | Link: https://ausschreibungsradar.com/ausschreibung/05566f69-7464-4cee-8003-2418f71d5986/
URL:https://ausschreibungsradar.com/ausschreibung/05566f69-7464-4cee-8003-2418f71d5986/
END:VEVENT
BEGIN:VEVENT
UID:7645d5d4b1ae4026@ausschreibungsradar.com
DTSTAMP:20260425T175155Z
DTSTART;VALUE=DATE:20260120
DTEND;VALUE=DATE:20260120
SUMMARY:Ausschreibung — Umbau und Sanierung Rathaus Gengenbach - Zimmererarbeiten
DESCRIPTION:Phase: Ausschreibung | Beschreibung: Offizielle Ausschreibung mit Bieterfrist. | Link: https://ausschreibungsradar.com/ausschreibung/8d0f2df7-0a3e-4481-9814-3e0d2a415997/
URL:https://ausschreibungsradar.com/ausschreibung/8d0f2df7-0a3e-4481-9814-3e0d2a415997/
END:VEVENT
BEGIN:VEVENT
UID:10682119ddc097fc@ausschreibungsradar.com
DTSTAMP:20260425T175155Z
DTSTART;VALUE=DATE:20260227
DTEND;VALUE=DATE:20260227
SUMMARY:Ausschreibung — Umbau und Sanierung Rathaus Gengenbach - Zimmererarbeiten
DESCRIPTION:Phase: Ausschreibung | Beschreibung: Offizielle Ausschreibung mit Bieterfrist. | Link: https://ausschreibungsradar.com/ausschreibung/29a3df02-8328-48a9-ab82-67124f8309cd/
URL:https://ausschreibungsradar.com/ausschreibung/29a3df02-8328-48a9-ab82-67124f8309cd/
END:VEVENT
BEGIN:VEVENT
UID:788dd6120f659166@ausschreibungsradar.com
DTSTAMP:20260425T175155Z
DTSTART;VALUE=DATE:20260320
DTEND;VALUE=DATE:20260320
SUMMARY:Vergabeergebnis — Umbau und Sanierung Rathaus Gengenbach - Zimmererarbeiten
DESCRIPTION:Phase: Vergabeergebnis | Beschreibung: Auftrag wurde zugeschlagen | Link: https://ausschreibungsradar.com/ausschreibung/574d7766-8e8e-4f9d-b94d-9640af340be5/
URL:https://ausschreibungsradar.com/ausschreibung/574d7766-8e8e-4f9d-b94d-9640af340be5/
END:VEVENT
BEGIN:VEVENT
UID:0aec9b9e9ce5832b@ausschreibungsradar.com
DTSTAMP:20260425T175155Z
DTSTART;VALUE=DATE:20260320
DTEND;VALUE=DATE:20260320
SUMMARY:Zuschlag — Umbau und Sanierung Rathaus Gengenbach - Zimmererarbeiten
DESCRIPTION:Phase: Zuschlag | Beschreibung: Vergabeergebnis — Auftrag wurde erteilt oder Verfahren beendet. | Link: https://ausschreibungsradar.com/ausschreibung/11fd2fff-10a7-4286-a4be-b3368ac66196/
URL:https://ausschreibungsradar.com/ausschreibung/11fd2fff-10a7-4286-a4be-b3368ac66196/
END:VEVENT
END:VCALENDAR
