BEGIN:VCALENDAR
VERSION:2.0
PRODID:-//AusschreibungsRadar//Timeline//DE
CALSCALE:GREGORIAN
METHOD:PUBLISH
X-WR-CALNAME:Projekt studierendenWERK BERLIN WH Siegmunds Hof 17, Haus 1, Bodenbe
X-WR-TIMEZONE:Europe/Berlin
BEGIN:VEVENT
UID:5a117a9900d9a432@ausschreibungsradar.com
DTSTAMP:20260425T181001Z
DTSTART;VALUE=DATE:20240718
DTEND;VALUE=DATE:20240718
SUMMARY:Angebotsfrist — studierendenWERK BERLIN WH Siegmunds Hof 17\, Haus 1\, Bodenbe
DESCRIPTION:Phase: Ausschreibung | Beschreibung: Angebote werden eingeholt | Link: https://ausschreibungsradar.com/ausschreibung/6cc574b2-4e24-49b8-ae22-88b3129d5ac4/
URL:https://ausschreibungsradar.com/ausschreibung/6cc574b2-4e24-49b8-ae22-88b3129d5ac4/
END:VEVENT
BEGIN:VEVENT
UID:4232619376bedd66@ausschreibungsradar.com
DTSTAMP:20260425T181001Z
DTSTART;VALUE=DATE:20240816
DTEND;VALUE=DATE:20240816
SUMMARY:Zuschlag — studierendenWERK BERLIN WH Siegmunds Hof 17\, Haus 1\, Bodenbe
DESCRIPTION:Phase: Zuschlag | Beschreibung: Vergabeergebnis — Auftrag wurde erteilt oder Verfahren beendet. | Link: https://ausschreibungsradar.com/ausschreibung/22571874/
URL:https://ausschreibungsradar.com/ausschreibung/22571874/
END:VEVENT
BEGIN:VEVENT
UID:2ba3ef3dafe96e4a@ausschreibungsradar.com
DTSTAMP:20260425T181001Z
DTSTART;VALUE=DATE:20240828
DTEND;VALUE=DATE:20240828
SUMMARY:Vergabeergebnis — studierendenWERK BERLIN WH Siegmunds Hof 17\, Haus 1\, Bodenbe
DESCRIPTION:Phase: Vergabeergebnis | Beschreibung: Auftrag wurde zugeschlagen | Link: https://ausschreibungsradar.com/ausschreibung/57b7105d-fff1-4b97-afbf-8cf740fb6a9b/
URL:https://ausschreibungsradar.com/ausschreibung/57b7105d-fff1-4b97-afbf-8cf740fb6a9b/
END:VEVENT
BEGIN:VEVENT
UID:ae7037c8c7edc219@ausschreibungsradar.com
DTSTAMP:20260425T181001Z
DTSTART;VALUE=DATE:20240828
DTEND;VALUE=DATE:20240828
SUMMARY:Ausschreibung — studierendenWERK BERLIN WH Siegmunds Hof 17\, Haus 1\, Bodenbe
DESCRIPTION:Phase: Ausschreibung | Beschreibung: Offizielle Ausschreibung mit Bieterfrist. | Link: https://ausschreibungsradar.com/ausschreibung/904ffa4a-666d-40f5-80cc-31b05ed2d228/
URL:https://ausschreibungsradar.com/ausschreibung/904ffa4a-666d-40f5-80cc-31b05ed2d228/
END:VEVENT
END:VCALENDAR
