BEGIN:VCALENDAR
VERSION:2.0
PRODID:-//AusschreibungsRadar//Timeline//DE
CALSCALE:GREGORIAN
METHOD:PUBLISH
X-WR-CALNAME:Projekt KARLA Verwaltungs- und Bildungszentrum - Elektrotechnik I
X-WR-TIMEZONE:Europe/Berlin
BEGIN:VEVENT
UID:724db2f1e8e95ad8@ausschreibungsradar.com
DTSTAMP:20260425T125323Z
DTSTART;VALUE=DATE:20250415
DTEND;VALUE=DATE:20250415
SUMMARY:Angebotsfrist — KARLA Verwaltungs- und Bildungszentrum - Elektrotechnik I
DESCRIPTION:Phase: Ausschreibung | Beschreibung: Angebote werden eingeholt | Link: https://ausschreibungsradar.com/ausschreibung/57bdc298-dfca-4e6e-9dc9-d684b3a51ca9/
URL:https://ausschreibungsradar.com/ausschreibung/57bdc298-dfca-4e6e-9dc9-d684b3a51ca9/
END:VEVENT
BEGIN:VEVENT
UID:20f1f34f8f6a5793@ausschreibungsradar.com
DTSTAMP:20260425T125323Z
DTSTART;VALUE=DATE:20250224
DTEND;VALUE=DATE:20250224
SUMMARY:Ausschreibung — KARLA Verwaltungs- und Bildungszentrum - Elektrotechnik I
DESCRIPTION:Phase: Ausschreibung | Beschreibung: Offizielle Ausschreibung mit Bieterfrist. | Link: https://ausschreibungsradar.com/ausschreibung/2bc40886-4891-4937-8b91-b1777e898cd5/
URL:https://ausschreibungsradar.com/ausschreibung/2bc40886-4891-4937-8b91-b1777e898cd5/
END:VEVENT
BEGIN:VEVENT
UID:e78892b7c3eeb920@ausschreibungsradar.com
DTSTAMP:20260425T125323Z
DTSTART;VALUE=DATE:20250224
DTEND;VALUE=DATE:20250224
SUMMARY:Ausschreibung — KARLA Verwaltungs- und Bildungszentrum - Elektrotechnik I
DESCRIPTION:Phase: Ausschreibung | Beschreibung: Offizielle Ausschreibung mit Bieterfrist. | Link: https://ausschreibungsradar.com/ausschreibung/8a1c4e98-f974-47d6-bef7-70fb01af027f/
URL:https://ausschreibungsradar.com/ausschreibung/8a1c4e98-f974-47d6-bef7-70fb01af027f/
END:VEVENT
BEGIN:VEVENT
UID:3cf468e0d160dcff@ausschreibungsradar.com
DTSTAMP:20260425T125323Z
DTSTART;VALUE=DATE:20250224
DTEND;VALUE=DATE:20250224
SUMMARY:Ausschreibung — KARLA Verwaltungs- und Bildungszentrum - Elektrotechnik I
DESCRIPTION:Phase: Ausschreibung | Beschreibung: Offizielle Ausschreibung mit Bieterfrist. | Link: https://ausschreibungsradar.com/ausschreibung/081903f6-a095-4bb6-9b92-4ff7c83a188b/
URL:https://ausschreibungsradar.com/ausschreibung/081903f6-a095-4bb6-9b92-4ff7c83a188b/
END:VEVENT
BEGIN:VEVENT
UID:bcd88621131a1de4@ausschreibungsradar.com
DTSTAMP:20260425T125323Z
DTSTART;VALUE=DATE:20250318
DTEND;VALUE=DATE:20250318
SUMMARY:Ausschreibung — KARLA Verwaltungs- und Bildungszentrum - Elektrotechnik I
DESCRIPTION:Phase: Ausschreibung | Beschreibung: Offizielle Ausschreibung mit Bieterfrist. | Link: https://ausschreibungsradar.com/ausschreibung/6ed79865-eb61-4e76-be60-1bf7d6a3a789/
URL:https://ausschreibungsradar.com/ausschreibung/6ed79865-eb61-4e76-be60-1bf7d6a3a789/
END:VEVENT
BEGIN:VEVENT
UID:01f50c539aae6d83@ausschreibungsradar.com
DTSTAMP:20260425T125323Z
DTSTART;VALUE=DATE:20250721
DTEND;VALUE=DATE:20250721
SUMMARY:Vergabeergebnis — KARLA Verwaltungs- und Bildungszentrum - Elektrotechnik I
DESCRIPTION:Phase: Vergabeergebnis | Beschreibung: Auftrag wurde zugeschlagen | Link: https://ausschreibungsradar.com/ausschreibung/9d3ef6b5-eced-4905-905c-645e13414ce5/
URL:https://ausschreibungsradar.com/ausschreibung/9d3ef6b5-eced-4905-905c-645e13414ce5/
END:VEVENT
END:VCALENDAR
